BEGIN:VCALENDAR
VERSION:2.0
PRODID:-//ChamberMaster//Event Calendar 2.0//EN
METHOD:PUBLISH
X-PUBLISHED-TTL:P3D
REFRESH-INTERVAL:P3D
CALSCALE:GREGORIAN
BEGIN:VEVENT
DTSTART:20200625T163000Z
DTEND:20200625T173000Z
X-MICROSOFT-CDO-ALLDAYEVENT:FALSE
SUMMARY:YP of the Mainland: Zoom Etiquette
DESCRIPTION:Learn the dos and don'ts for digital meetings!
X-ALT-DESC;FMTTYPE=text/html:Learn the dos and don&#39\;ts for digital meetings!
LOCATION:Via Zoom
UID:e.2983.3951
SEQUENCE:3
DTSTAMP:20260422T174633Z
URL:https://business.tclmchamber.com/events/details/yp-of-the-mainland-zoom-etiquette-3951
END:VEVENT

END:VCALENDAR
