BEGIN:VCALENDAR
VERSION:2.0
PRODID:-//ChamberMaster//Event Calendar 2.0//EN
METHOD:PUBLISH
X-PUBLISHED-TTL:P3D
REFRESH-INTERVAL:P3D
CALSCALE:GREGORIAN
BEGIN:VEVENT
DTSTART:20180308T173000Z
DTEND:20180308T183000Z
X-MICROSOFT-CDO-ALLDAYEVENT:FALSE
SUMMARY:YP Mentor Lunch
DESCRIPTION:The topic of sexual harassment has been in the media for several weeks and so to learn how to make a better work environment for all join the Young Professionals Mentor Lunch. Kyle Dickson from Murray Lobb is the guest speaker.
X-ALT-DESC;FMTTYPE=text/html:The topic of sexual harassment has been in the media for several weeks and so to learn how to make a better work environment for all join the Young Professionals Mentor Lunch. Kyle Dickson from Murray Lobb is the guest speaker.&nbsp\;&nbsp\;
LOCATION:Chamber Office
UID:e.2983.3400
SEQUENCE:3
DTSTAMP:20260424T071418Z
URL:https://business.tclmchamber.com/events/details/yp-mentor-lunch-3400
END:VEVENT

END:VCALENDAR
