BEGIN:VCALENDAR
VERSION:2.0
PRODID:-//ChamberMaster//Event Calendar 2.0//EN
METHOD:PUBLISH
X-PUBLISHED-TTL:P3D
REFRESH-INTERVAL:P3D
CALSCALE:GREGORIAN
BEGIN:VEVENT
DTSTART:20200818T223000Z
DTEND:20200818T233000Z
X-MICROSOFT-CDO-ALLDAYEVENT:FALSE
SUMMARY:YP: Headshots sponsored by AReid Photography
DESCRIPTION:AReid Photography is sponsoring FREE headshots for our Young Professionals of the Mainland group.
X-ALT-DESC;FMTTYPE=text/html:AReid Photography is sponsoring FREE headshots for our Young Professionals of the Mainland group.
LOCATION:Texas City - La Marque Chamber of Commerce
UID:e.2983.4019
SEQUENCE:3
DTSTAMP:20260422T162322Z
URL:https://business.tclmchamber.com/events/details/yp-headshots-sponsored-by-areid-photography-4019
END:VEVENT

END:VCALENDAR
