BEGIN:VCALENDAR
VERSION:2.0
PRODID:-//ChamberMaster//Event Calendar 2.0//EN
METHOD:PUBLISH
X-PUBLISHED-TTL:P3D
REFRESH-INTERVAL:P3D
CALSCALE:GREGORIAN
BEGIN:VEVENT
DTSTART:20220210T143000Z
DTEND:20220210T160000Z
X-MICROSOFT-CDO-ALLDAYEVENT:FALSE
SUMMARY:Young Professionals of the Mainland
DESCRIPTION:Ten Steps to Financial Success presented by AMOCO Federal Credit Union!
X-ALT-DESC;FMTTYPE=text/html:Ten Steps to Financial Success presented by AMOCO Federal Credit Union!<br />\n<br />\n&nbsp\;
LOCATION:TCLM Chamber Conference Room
UID:e.2983.4178
SEQUENCE:3
DTSTAMP:20260421T152426Z
URL:https://business.tclmchamber.com/events/details/young-professionals-of-the-mainland-4178
END:VEVENT

END:VCALENDAR
