BEGIN:VCALENDAR
VERSION:2.0
PRODID:-//ChamberMaster//Event Calendar 2.0//EN
METHOD:PUBLISH
X-PUBLISHED-TTL:P3D
REFRESH-INTERVAL:P3D
CALSCALE:GREGORIAN
BEGIN:VEVENT
DTSTART:20220421T163000Z
DTEND:20220421T180000Z
X-MICROSOFT-CDO-ALLDAYEVENT:FALSE
SUMMARY:Young Professionals of the Mainland 2022 Series
DESCRIPTION:Enjoy lunch and network with other Young Professionals in the Texas City-La Marque business community. Hear from speaker Ashley Helm as she talks about Digital Marketing Tips.\n\n\n\nNetworking begins at 11:30 a.m.\n\nSpeaker starts at 12:00 p.m.
X-ALT-DESC;FMTTYPE=text/html:Enjoy lunch and network with other Young Professionals in the Texas City-La Marque business community. Hear from speaker Ashley Helm as she talks about Digital Marketing Tips.<br />\n<br />\nNetworking begins at 11:30 a.m.<br />\nSpeaker starts at 12:00 p.m.
LOCATION:TCLM Chamber Conference Room
UID:e.2983.4179
SEQUENCE:3
DTSTAMP:20260421T124450Z
URL:https://business.tclmchamber.com/events/details/young-professionals-of-the-mainland-2022-series-4179
END:VEVENT

END:VCALENDAR
