BEGIN:VCALENDAR
VERSION:2.0
PRODID:-//ChamberMaster//Event Calendar 2.0//EN
METHOD:PUBLISH
X-PUBLISHED-TTL:P3D
REFRESH-INTERVAL:P3D
CALSCALE:GREGORIAN
BEGIN:VEVENT
DTSTART:20220526T164500Z
DTEND:20220526T180000Z
X-MICROSOFT-CDO-ALLDAYEVENT:FALSE
SUMMARY:Women in Business Networking Luncheon-May '22
DESCRIPTION:THE POWER OF SELF CARE!\n\n\n\nSponsored by UTMB Health\n\n\n\nWomen in the workplace are always expected to "do it all!"  How do we accomplish everything on our list and still make sure WE stay well?  Explore the work-life balance topic at this luncheon and hear about self-care activities such as The Power of Outsourcing\, The Power of the Ask\, and more.\nFeatured speaker:  Christine Wade\, RN\, MSN\, CEN\n\nAdministrator\, UTMB Health League City Hospital\n\nAssociate Chief Nursing and Patient Care Services Officer\n\nAt this luncheon\, we will hear from Christine about how she manages career demands and personal wellness.\n\n\n\nPrior to her current role as Administrator-League City Campus and Associate Chief Nursing and Patient Care Officer\, Christine has served in multiple roles at UTMB such as Interim Vice President\, Health System Operations and Director of Patient Care Services and Assistant Chief Nursing Officer. In addition to support services\, she oversees 2 emergency departments\, including a Level I Trauma Center\, Level I Burn Center\, 2 medical surgical units\, intensive care\, perioperative services\, house supervisors\, staffing office and the designated emerging infectious disease biocontainment unit and program -- which she created!\n\n\n\nChristine joined UTMB in 2012 and has spent most of her career managing high-volume trauma centers.  She holds a Master's in Nursing from Columbia University and is enrolled in the Doctoral program at UT-Arlington. She is considered an expert in the field of emergency nursing! She is actively involved in extensive domestic and international health care volunteerism and emergency relief.  She has worked on over 14 international medical missions. She has completed a Leadership Fellowship with American Essentials Hospitals. Christine is also involved with the American Heart Association and is an active board member of the Texas City-La Marque Chamber of Commerce.\n\n\nNetwork with other women in the Galveston County Mainland community at this fun\, casual lunch event.  Enjoy a delicious catered lunch\, networking and door prizes. Boost your business network and make new friends!  \n\n\n\nReminder - bring a door prize to give away to promote your business!
X-ALT-DESC;FMTTYPE=text/html:<span style="font-size:24px\;"><span style="color:#008080\;"><strong>THE POWER OF SELF CARE!</strong></span></span><br />\n<br />\n<em><strong>Sponsored by UTMB Health</strong></em><br />\n<br />\nWomen in the workplace are always expected to &quot\;do it all!&quot\;&nbsp\; How do we accomplish everything on our list and still make sure WE stay well?&nbsp\; Explore the work-life balance topic at this luncheon and hear about self-care activities such as The Power of Outsourcing\, The Power of the Ask\, and more.\n<h2><span style="color:#008080\;"><strong><span style="font-size:12.0pt\;">Featured speaker:&nbsp\; Christine Wade\, RN\, MSN\, CEN</span></strong></span></h2>\n\n<p><span style="font-size:12px\;">Administrator\, UTMB Health League City Hospital<br />\n<span background-color:="" helvetica="" neue="" style="color: rgb(51\, 51\, 51)\; font-family: Roboto\, ">Associate Chief Nursing and Patient Care Services Officer</span></span></p>\n\n<p><strong>At this luncheon\, we will hear from Christine about how she manages career demands and personal wellness.</strong><br />\n<br />\nPrior to her current role as Administrator-League City Campus and Associate Chief Nursing and Patient Care Officer\, Christine has served in multiple roles at UTMB such as Interim Vice President\, Health System Operations and Director of Patient Care Services and Assistant Chief Nursing Officer. In addition to support services\, she oversees 2 emergency departments\, including a Level I Trauma Center\, Level I Burn Center\, 2 medical surgical units\, intensive care\, perioperative services\, house supervisors\, staffing office and the designated emerging infectious disease biocontainment unit and program -- which she created!<br />\n<br />\nChristine joined UTMB in 2012 and has spent most of her career managing high-volume trauma centers.&nbsp\; She holds a Master&rsquo\;s in Nursing from Columbia University and is enrolled in the Doctoral program at UT-Arlington. She is considered an expert in the field of emergency nursing! She is actively involved in extensive domestic and international health care volunteerism and emergency relief. &nbsp\;She has worked on over 14 international medical missions. She has completed a Leadership Fellowship with American Essentials Hospitals. Christine is also involved with the American Heart Association and is an active board member of the Texas City-La Marque Chamber of Commerce.</p>\n<br />\n<em><strong>Network with other women in the Galveston County Mainland community at this fun\, casual lunch event.&nbsp\;&nbsp\;Enjoy a delicious catered lunch\, networking and door prizes. Boost your business network and make new friends!&nbsp\;&nbsp\;</strong></em><br />\n<br />\n<span style="color:#008080\;"><em><strong>Reminder - bring a door prize to give away to promote your business!</strong></em></span>
LOCATION:Texas City-La Marque Chamber Conference Room 9702 E.F. Lowry Expressway Texas City\, Texas 77591
UID:e.2983.4186
SEQUENCE:3
DTSTAMP:20260421T112734Z
URL:https://business.tclmchamber.com/events/details/women-in-business-networking-luncheon-may-22-4186
END:VEVENT

END:VCALENDAR
