BEGIN:VCALENDAR
VERSION:2.0
PRODID:-//ChamberMaster//Event Calendar 2.0//EN
METHOD:PUBLISH
X-PUBLISHED-TTL:P3D
REFRESH-INTERVAL:P3D
CALSCALE:GREGORIAN
BEGIN:VEVENT
DTSTART:20220324T164500Z
DTEND:20220324T180000Z
X-MICROSOFT-CDO-ALLDAYEVENT:FALSE
SUMMARY:Women in Business Networking Luncheon-March '22
DESCRIPTION:Network with other Women in Business in the Texas City-La Marque community. Enjoy a delicious catered lunch\, networking and door prizes. Boost your business network and make new friends!\n\n\n\nMarch 24 topic - "Inspiring Women Empower Us" \n\nHear from special guest speaker\, author and 2021 WILA award winner Monica Eaton of Texas First Bank. \n\nNetwork with other women at different stages and ages of life about how they followed their dreams.  Every woman will get the chance to introduce herself and share about what inspires us.\n\n\n\nReminder - bring a door prize to give away to promote your business!
X-ALT-DESC;FMTTYPE=text/html:Network with other Women in Business in the Texas City-La Marque community.&nbsp\;Enjoy a delicious catered lunch\, networking and door prizes. Boost your business network and make new friends!<br />\n<br />\n<strong>March 24 topic - &quot\;Inspiring Women Empower Us&quot\;</strong>&nbsp\;<br />\nHear from special guest speaker\, author and 2021 WILA award winner Monica Eaton of Texas First Bank.&nbsp\;<br />\nNetwork with other women at different stages and ages of life about how they followed their dreams.&nbsp\; Every woman will get the chance to introduce herself and share about what inspires us.<br />\n<br />\n<span style="color:#993399\;"><span style="font-size:14px\;"><em><strong>Reminder - bring a door prize to give away to promote your business!</strong></em></span></span>
LOCATION:Texas City-La Marque Chamber Conference Room 9702 E.F. Lowry Expressway Texas City\, Texas 77591
UID:e.2983.4184
SEQUENCE:3
DTSTAMP:20260421T135802Z
URL:https://business.tclmchamber.com/events/details/women-in-business-networking-luncheon-march-22-4184
END:VEVENT

END:VCALENDAR
