BEGIN:VCALENDAR
VERSION:2.0
PRODID:-//ChamberMaster//Event Calendar 2.0//EN
METHOD:PUBLISH
X-PUBLISHED-TTL:P3D
REFRESH-INTERVAL:P3D
CALSCALE:GREGORIAN
BEGIN:VEVENT
DTSTART:20200917T163000Z
DTEND:20200917T180000Z
X-MICROSOFT-CDO-ALLDAYEVENT:FALSE
SUMMARY:Women in Business Meeting Presented by UTMB Health
DESCRIPTION:Healthy Bones\, Healthy Bodies: What Every Woman Should Know About Bone Health\n\nfeaturing UTMB Health experts Gordon Klein\, M.D. and Shibi Kunjumon\, MSN\, RN\, FNP-C\, CCRN\, CVRN\n\n\n\nWe will discuss osteoporosis and other aspects of bone health important to women of all ages.   \n\n\n\nShibi Abhilash Kunjumon\, MSN\, RN\, FNP-C\, CCRN\, CVRN\n\nMs. Kunjumon is a family nurse practitioner who graduated from UTMB in 2015 and is currently enrolled in a doctoral program in nursing at the UTMB School of Nursing. For the past three years she has worked in the UTMB Bone Health Clinic where she can share with patients her passion for preventing fragility fractures in our society.\n\n \n\nGordon Klein\, M.D.\n\nDr. Klein is senior scientist and adjunct professor in the Department of Orthopaedic Surgery and Rehabilitation at UTMB. He is a fellow of the American Society for Bone and Mineral Research and an Overseas Fellow of the Royal Society of Medicine in London.  Dr. Klein founded the Bone Health Clinic in the UTMB Department of Orthopaedic Surgery in 2015\, a program now run by Shibi Kunjumon\, NP.
X-ALT-DESC;FMTTYPE=text/html:<strong><span style="font-family:garamond\,serif\;"><span style="font-size:12.0pt\;">Healthy Bones\, Healthy Bodies: What Every Woman Should Know About Bone Health</span></span></strong><br />\n<span style="font-family:garamond\,serif\;"><span style="font-size:12.0pt\;">featuring UTMB Health experts Gordon Klein\, M.D. and Shibi Kunjumon\, MSN\, RN\, FNP-C\, CCRN\, CVRN</span></span><br />\n<br />\n<span style="font-family:garamond\,serif\;"><span style="font-size:12.0pt\;">We will discuss osteoporosis and other aspects of bone health important to women of all ages. &nbsp\;&nbsp\;</span></span><br />\n<br />\n<strong><span style="background:#EFEFEF\;"><span style="color:black\;"><span style="font-family:arial\,sans-serif\;"><span style="font-size:12.0pt\;">Shibi Abhilash Kunjumon\, MSN\, RN\, FNP-C\, CCRN\, CVRN</span></span></span></span></strong><br />\n<span style="font-family:arial\,sans-serif\;"><span style="font-size:12.0pt\;">Ms. Kunjumon is a family nurse practitioner who graduated from UTMB in 2015 and is currently enrolled in a doctoral program in nursing at the UTMB School of Nursing. For the past three years she has worked in the UTMB Bone Health Clinic where she can share with patients her passion for preventing fragility fractures in our society.</span></span><br />\n&nbsp\;<br />\n<strong><span style="font-family:arial\,sans-serif\;"><span style="font-size:12.0pt\;">Gordon Klein\, M.D.</span></span></strong><br />\n<span style="font-family:arial\,sans-serif\;"><span style="font-size:12.0pt\;">Dr. Klein is senior scientist and adjunct professor in the Department of Orthopaedic Surgery and Rehabilitation at UTMB. He is a fellow of the American Society for Bone and Mineral Research and an Overseas Fellow of the Royal Society of Medicine in London. &nbsp\;Dr. Klein founded the Bone Health Clinic in the UTMB Department of Orthopaedic Surgery in 2015\, a program now run by Shibi Kunjumon\, NP.</span></span>
LOCATION:This session will be virtual through Zoom\, and the link to join the meeting will be sent to you after registration.
UID:e.2983.3957
SEQUENCE:3
DTSTAMP:20260422T134757Z
URL:https://business.tclmchamber.com/events/details/women-in-business-meeting-presented-by-utmb-health-3957
END:VEVENT

END:VCALENDAR
