BEGIN:VCALENDAR
VERSION:2.0
PRODID:-//ChamberMaster//Event Calendar 2.0//EN
METHOD:PUBLISH
X-PUBLISHED-TTL:P3D
REFRESH-INTERVAL:P3D
CALSCALE:GREGORIAN
BEGIN:VEVENT
DTSTART:20200813T163000Z
DTEND:20200813T180000Z
X-MICROSOFT-CDO-ALLDAYEVENT:FALSE
SUMMARY:Women in Business Meeting - Presented by UTMB
DESCRIPTION:This Women in Business session is presented by UTMB\, where leading doctors will discuss women's pelvic health. This session will be virtual through Zoom\, and the link to join the meeting will be sent to you after registration.
X-ALT-DESC;FMTTYPE=text/html:This Women in Business session is presented by UTMB\, where leading doctors will discuss women&#39\;s pelvic health. This session will be virtual through Zoom\, and the link to join the meeting will be sent to you after registration.
LOCATION:This session will be virtual through Zoom\, and the link to join the meeting will be sent to you after registration.
UID:e.2983.3955
SEQUENCE:3
DTSTAMP:20260422T150638Z
URL:https://business.tclmchamber.com/events/details/women-in-business-meeting-presented-by-utmb-3955
END:VEVENT

END:VCALENDAR
