BEGIN:VCALENDAR
VERSION:2.0
PRODID:-//ChamberMaster//Event Calendar 2.0//EN
METHOD:PUBLISH
X-PUBLISHED-TTL:P3D
REFRESH-INTERVAL:P3D
CALSCALE:GREGORIAN
BEGIN:VEVENT
DTSTART;VALUE=DATE:20200618
DTEND;VALUE=DATE:20200619
TRANSP:TRANSPARENT
X-MICROSOFT-CDO-ALLDAYEVENT:TRUE
SUMMARY:Women in Business Meeting (June)
DESCRIPTION:Dr. Tammy Cupit discusses resources to keep mind\, body and spirit well during these stressful times.
X-ALT-DESC;FMTTYPE=text/html:Dr. Tammy Cupit discusses resources to keep mind\, body and spirit well during these stressful times.
LOCATION:Zoom Meeting sponsored by UTMB Health
UID:e.2983.3950
SEQUENCE:3
DTSTAMP:20260422T185526Z
URL:https://business.tclmchamber.com/events/details/women-in-business-meeting-june-3950
END:VEVENT

END:VCALENDAR
