BEGIN:VCALENDAR
VERSION:2.0
PRODID:-//ChamberMaster//Event Calendar 2.0//EN
METHOD:PUBLISH
X-PUBLISHED-TTL:P3D
REFRESH-INTERVAL:P3D
CALSCALE:GREGORIAN
BEGIN:VEVENT
DTSTART:20200716T163000Z
DTEND:20200716T173000Z
X-MICROSOFT-CDO-ALLDAYEVENT:FALSE
SUMMARY:Women in Business Meeting
DESCRIPTION:Join us for an insightful event sponsored by The University of Texas MD Anderson Cancer Center! We are welcoming some of the best female leaders as they speak on the steps their organization is taking to be safe and productive during the pandemic as well as:\n\n \n\n\n	Speaking on remote work and MD Anderson's telemedicine strategies and how to help keep focused while working remotely with great strategies to help keep "business as usual"\n	Why it is still important to get your female wellness screening done and discuss the new Breast Imaging and Diagnostic Services that will open at the League City location\n	Great safety standards that we can all practice while we are reopening our businesses and offices and speak on MD Anderson's patient safety procedures and re-opening strategy during COVID-19
X-ALT-DESC;FMTTYPE=text/html:<p class="_04xlpA direction-ltr align-center para-style-body" style="line-height: 1.4\; font-family: &quot\;YADLjI9qxTA 0&quot\;\, _fb_\, auto\; font-size: 18.6667px\; color: rgb(0\, 0\, 0)\;"><span class="JsGRdQ" style="font-weight: 700\;">Join us for an insightful event sponsored by The University of Texas MD Anderson Cancer Center! We are welcoming some of the best female leaders as they speak on the steps their organization is taking to be safe and productive during the pandemic as well as:</span></p>\n\n<p class="_04xlpA direction-ltr align-center para-style-body" style="line-height: 1.4\; font-family: &quot\;YADLjI9qxTA 0&quot\;\, _fb_\, auto\; font-size: 18.6667px\; color: rgb(0\, 0\, 0)\;">&nbsp\;</p>\n\n<ul>\n	<li><span class="JsGRdQ" style="font-weight: 700\; color: rgb(0\, 0\, 0)\;">Speaking on remote work and MD Anderson&rsquo\;s telemedicine strategies and how to help keep focused while working remotely with great strategies to help keep &quot\;business as usual&quot\;</span></li>\n	<li><span class="JsGRdQ" style="font-weight: 700\; color: rgb(0\, 0\, 0)\;">Why it is still important to get your female wellness screening done and discuss the new Breast Imaging and Diagnostic Services that will open at the League City location</span></li>\n	<li><span class="JsGRdQ" style="font-weight: 700\; color: rgb(0\, 0\, 0)\;">Great safety standards that we can all practice while we are reopening our businesses and offices and speak on MD Anderson&rsquo\;s patient safety procedures and re-opening strategy during COVID-19</span></li>\n</ul>\n
LOCATION:Zoom Meeting
UID:e.2983.3953
SEQUENCE:3
DTSTAMP:20260422T163045Z
URL:https://business.tclmchamber.com/events/details/women-in-business-meeting-3953
END:VEVENT

END:VCALENDAR
