BEGIN:VCALENDAR
VERSION:2.0
PRODID:-//ChamberMaster//Event Calendar 2.0//EN
METHOD:PUBLISH
X-PUBLISHED-TTL:P3D
REFRESH-INTERVAL:P3D
CALSCALE:GREGORIAN
BEGIN:VEVENT
DTSTART:20220224T173000Z
DTEND:20220224T190000Z
X-MICROSOFT-CDO-ALLDAYEVENT:FALSE
SUMMARY:Women in Business - February
DESCRIPTION:Enjoy the next WOMEN IN BUSINESS event on Thursday\, Feb. 24.\n\n\n\nNetwork with other Women in Business in the Texas City-La Marque community. Enjoy a delicious catered lunch\, networking and door prizes. Expand your connections and make new friends! \n\n\n\nFeb. 24 topic:  "Powerful Women Invest...in Themselves!"  Hear from a couple of speakers about how to find real estate investment properties\, how to invest in the stock market and more.  Plus every woman at the luncheon will have the chance to introduce herself and give an update from her business!\n\n\n\nBring a door prize to give away to promote your business!\n\n\n\nRegister now for this special event!
X-ALT-DESC;FMTTYPE=text/html:<br />\n<strong>Enjoy the next WOMEN IN BUSINESS event on Thursday\, Feb. 24.</strong><br />\n<br />\nNetwork with other Women in Business in the Texas City-La Marque community.&nbsp\;Enjoy a delicious catered lunch\, networking and door prizes. Expand your connections and make new friends!&nbsp\;<br />\n<br />\n<strong>Feb. 24 topic:&nbsp\; &quot\;Powerful Women Invest...in Themselves!&quot\;&nbsp\; </strong>Hear from a couple of speakers about how to find real estate investment properties\, how to invest in the stock market and more.&nbsp\; Plus every woman at the luncheon will have the chance to introduce herself and give an update from her business!<br />\n<br />\n<em><strong>Bring a door prize to give away to promote your business!</strong></em><br />\n<br />\n<strong>Register now for this special event!</strong><br />\n<br />\n&nbsp\;
LOCATION:Texas City-La Marque Chamber Conference Room 9702 E.F. Lowry Expressway Texas City\, Texas 77591
UID:e.2983.4183
SEQUENCE:3
DTSTAMP:20260421T152617Z
URL:https://business.tclmchamber.com/events/details/women-in-business-february-4183
END:VEVENT

END:VCALENDAR
