BEGIN:VCALENDAR
VERSION:2.0
PRODID:-//ChamberMaster//Event Calendar 2.0//EN
METHOD:PUBLISH
X-PUBLISHED-TTL:P3D
REFRESH-INTERVAL:P3D
CALSCALE:GREGORIAN
BEGIN:VEVENT
DTSTART:20180908T190000Z
DTEND:20180908T200000Z
X-MICROSOFT-CDO-ALLDAYEVENT:FALSE
SUMMARY:What is an IT MSP Seminar
DESCRIPTION:This free seminar is to show the businesses in the area a very cost efficient\, controllable\, and scalable solution to meet high\, ever-changing IT and technology demands. Take back your time and see what an MSP can do for your business!
X-ALT-DESC;FMTTYPE=text/html:This free seminar is to show the businesses in the area a very cost efficient\, controllable\, and scalable solution to meet high\, ever-changing IT and technology demands. Take back your time and see what an MSP can do for your business!
LOCATION:Texas City - La Marque Chamber of Commerce 9702 E.F. Lowry Expressway Texas City\, Texas 77590
UID:e.2983.3550
SEQUENCE:3
DTSTAMP:20260423T232652Z
URL:https://business.tclmchamber.com/events/details/what-is-an-it-msp-seminar-3550
END:VEVENT

END:VCALENDAR
