BEGIN:VCALENDAR
VERSION:2.0
PRODID:-//ChamberMaster//Event Calendar 2.0//EN
METHOD:PUBLISH
X-PUBLISHED-TTL:P3D
REFRESH-INTERVAL:P3D
CALSCALE:GREGORIAN
BEGIN:VEVENT
DTSTART:20190320T210000Z
DTEND:20190320T230000Z
X-MICROSOFT-CDO-ALLDAYEVENT:FALSE
SUMMARY:UTMB Clear Lake Campus Ribbon Cutting
DESCRIPTION:Ribbon Cutting
X-ALT-DESC;FMTTYPE=text/html:Ribbon Cutting
LOCATION:UTMB Clear Lake Campus 200 Blossom Street Webster\, Texas
UID:e.2983.3625
SEQUENCE:3
DTSTAMP:20260423T155300Z
URL:https://business.tclmchamber.com/events/details/utmb-clear-lake-campus-ribbon-cutting-3625
END:VEVENT

END:VCALENDAR
