BEGIN:VCALENDAR
VERSION:2.0
PRODID:-//ChamberMaster//Event Calendar 2.0//EN
METHOD:PUBLISH
X-PUBLISHED-TTL:P3D
REFRESH-INTERVAL:P3D
CALSCALE:GREGORIAN
BEGIN:VEVENT
DTSTART:20190125T154500Z
DTEND:20190125T163000Z
X-MICROSOFT-CDO-ALLDAYEVENT:FALSE
SUMMARY:Uran Home Dedication and Ribbon Cutting
DESCRIPTION:Home Dedication for U.S. Army SFC CW3 Matthew Uran\n\nJanuary 25 @ 9:45 a.m.   743 Oakmist Cove Lane\, La Marque
X-ALT-DESC;FMTTYPE=text/html:<span style="font-size:14.0pt\;">Home Dedication for U.S. Army SFC CW3 Matthew Uran</span><br />\n<span style="font-size:15.0pt\;">January 25 @ 9:45 a.m. &mdash\; 743 Oakmist Cove Lane\, La Marque</span>
LOCATION:745 Oak Mist Cove Lane La Marque\, Texas 77568
UID:e.2983.3615
SEQUENCE:3
DTSTAMP:20260423T172725Z
URL:https://business.tclmchamber.com/events/details/uran-home-dedication-and-ribbon-cutting-3615
END:VEVENT

END:VCALENDAR
