BEGIN:VCALENDAR
VERSION:2.0
PRODID:-//ChamberMaster//Event Calendar 2.0//EN
METHOD:PUBLISH
X-PUBLISHED-TTL:P3D
REFRESH-INTERVAL:P3D
CALSCALE:GREGORIAN
BEGIN:VEVENT
DTSTART:20200913T000000Z
DTEND:20200913T030000Z
X-MICROSOFT-CDO-ALLDAYEVENT:FALSE
SUMMARY:Uncorked - A Benefit for SoléAna Stables
DESCRIPTION:Join us for a magical evening at the brand new Still Waters Ranch! Enjoy savory food & delicious wine\, silent & live auctions and enter for your chance to win a 2 year lease on a 2020 Chevy Blazer courtesy of Bayway Chevrolet!\n\n\n\nAll proceeds benefit Sol Ana Stables\, a 501c3 non profit organization whose mission is to enrich the lives of people with special needs through the healing power of horses.\n\n\n\nTo register for Uncorked and/or purchase Raffle tickets go to https://bit.ly/Uncorked20
X-ALT-DESC;FMTTYPE=text/html:Join us for a magical evening at the brand new <strong>Still Waters Ranch</strong>! Enjoy savory food &amp\; delicious wine\, silent &amp\; live auctions and enter for your chance to win a <strong>2 year lease on a 2020 Chevy Blazer courtesy of Bayway Chevrolet</strong>!<br />\n<br />\nAll proceeds benefit Sol&eacute\;Ana Stables\, a 501c3 non profit organization whose mission is <strong>to enrich the lives of people with special needs through the healing power of horses.</strong><br />\n<br />\nTo register for Uncorked and/or purchase Raffle tickets go to&nbsp\;<a href="https://bit.ly/Uncorked20" style="color: rgb(17\, 85\, 204)\; font-family: Arial\, Helvetica\, sans-serif\; font-size: small\;" target="_blank">https://bit.ly/Uncorked20</a>
LOCATION:Still Waters Ranch 2352 County Road 165 Alvin\, Texas 77511
UID:e.2983.4013
SEQUENCE:3
DTSTAMP:20260422T134407Z
URL:https://business.tclmchamber.com/events/details/uncorked-a-benefit-for-sol&#233;ana-stables-4013
END:VEVENT

END:VCALENDAR
