BEGIN:VCALENDAR
VERSION:2.0
PRODID:-//ChamberMaster//Event Calendar 2.0//EN
METHOD:PUBLISH
X-PUBLISHED-TTL:P3D
REFRESH-INTERVAL:P3D
CALSCALE:GREGORIAN
BEGIN:VEVENT
DTSTART:20201020T150000Z
DTEND:20201020T160000Z
X-MICROSOFT-CDO-ALLDAYEVENT:FALSE
SUMMARY:The UTMB MDAnderson Cancer Center presents a webinar on Breast Cancer Awareness
DESCRIPTION:The UTMB MD Anderson Cancer Center presents a webinar for all\n\nChamber members & community partners\n\n Breast Cancer: Learn How to Reduce Your Risk\nLearn what puts you at risk\, how to reduce your risk\n\nand what screening exams you need to detect\n\nbreast cancer early\, when it's most treatable
X-ALT-DESC;FMTTYPE=text/html:<p><span style="font-size:14px\;"><i>The UTMB MD Anderson Cancer Center presents a webinar for all<br />\nChamber members &amp\; community partners</i></span></p>\n\n<p><span style="font-size:14px\;"><i>&nbsp\;</i><b>Breast Cancer: Learn How to Reduce Your Risk</b></span></p>\n<span style="font-size:14.0pt\;font-family:&quot\;Calibri&quot\;\,sans-serif\;\nmso-fareast-font-family:Calibri\;mso-fareast-theme-font:minor-latin\;mso-ansi-language:\nEN-US\;mso-fareast-language:EN-US\;mso-bidi-language:AR-SA"><span style="font-size:14px\;">Learn what puts you at risk\, how to reduce your risk<br />\nand what screening exams you need to detect</span><br />\n<span style="font-size:14px\;">breast cancer early\, when it&#39\;s most treatable</span></span>
LOCATION:This will be a webinar hosted on Zoom. The Zoom meeting link will be sent out prior to the event after you have registered.
UID:e.2983.4024
SEQUENCE:3
DTSTAMP:20260422T134747Z
URL:https://business.tclmchamber.com/events/details/the-utmb-mdanderson-cancer-center-presents-a-webinar-on-breast-cancer-awareness-4024
END:VEVENT

END:VCALENDAR
