BEGIN:VCALENDAR
VERSION:2.0
PRODID:-//ChamberMaster//Event Calendar 2.0//EN
METHOD:PUBLISH
X-PUBLISHED-TTL:P3D
REFRESH-INTERVAL:P3D
CALSCALE:GREGORIAN
BEGIN:VEVENT
DTSTART:20220408T233000Z
DTEND:20220409T043000Z
X-MICROSOFT-CDO-ALLDAYEVENT:FALSE
SUMMARY:The Dev Gala – 10th Annual Savor the Hope Gala
DESCRIPTION:Get ready to make your grand entrance on the red carpet. For our 10th Annual Savor the Hope Gala\, we're pulling out all the stops. Paying tribute to fashion's biggest day the annual Met Gala with our very own\, Dev Gala. Curate your costume\, dine on delicious delicacies\, and dance the night away\, all while restoring faith and hope to hundreds of children\, adolescents\, and adults with emotional\, behavioral\, and cognitive differences.\n\nJoin Devereux Texas\, alongside gala chairs\, Elaine and Jim Turner\, and master of ceremonies\, former radio personality\, Suzi Hanks\, at the premier event of the year! Houston's hottest band\, Bourbon Street\, will be playing the greatest hits for your dancing pleasure.\n\nWhen: \n\nFriday\, April 8\, 2022\n\n6:30pm 11:30pm\n \n\nWhere:\n\nHotel ZaZa Museum District\n\n5701 Main St.\, Houston\, TX 77005\n\nTickets: https://savorthehope.org/ \n\nBecome an A-Lister and shine at the Dev Gala. Secure your sponsorship/tickets by visiting SavorTheHope.org or contact Devereux's Director of Development\, Joni Robertson\, at 281-316-5423 or jroberts@devereux.org.\n\nThe Savor the Hope Gala benefits the programs at Devereux Texas. Devereux has recently expanded their programs to meet the needs of the community providing critical mental health services to the local community and beyond. Due to limited mental health funding\, Devereux is dependent on the support of our community to ensure effective\, efficient\, and high-quality behavioral health services. \n\nDevereux Texas Services\n\nLeague City Campus                                                                   \n\n\n	\n	Behavioral Health Residential programs for ages 14 to 17\n	\n	\n	Autism/Intellectual and Developmental Disabilities Residential program for ages 8 to 17\n	\n	\n	Community-based autism services Coming Soon!\n	\n\n\nVictoria Campus\n\n\n	\n	Residential programs for adults and transitional-aged individuals for ages 16 and up\n	\n	\n	Community-based living programs\n	\n	\n	Vocational programs
X-ALT-DESC;FMTTYPE=text/html:<p><span style="background-color:transparent\; color:rgb(0\, 0\, 0)\; font-family:calibri\,sans-serif\; font-size:12pt">Get ready to make your grand entrance on the red carpet. For our 10th Annual Savor the Hope Gala\, we&rsquo\;re pulling out all the stops. Paying tribute to fashion&rsquo\;s biggest day&mdash\;the annual Met Gala&mdash\;with our very own\, Dev Gala. Curate your costume\, dine on delicious delicacies\, and dance the night away\, all while restoring faith and hope to hundreds of children\, adolescents\, and adults with emotional\, behavioral\, and cognitive differences.</span></p>\n\n<p><span style="background-color:transparent\; color:rgb(0\, 0\, 0)\; font-family:calibri\,sans-serif\; font-size:12pt">Join Devereux Texas\, alongside gala chairs\, Elaine and Jim Turner\, and master of ceremonies\, former radio personality\, Suzi Hanks\, at the premier event of the year! Houston&#39\;s hottest band\, Bourbon Street\, will be playing the greatest hits for your dancing pleasure.</span></p>\n\n<p><span style="background-color:transparent\; color:rgb(0\, 0\, 0)\; font-family:calibri\,sans-serif\; font-size:12pt">When:&nbsp\;</span></p>\n\n<p><span style="background-color:transparent\; color:rgb(0\, 0\, 0)\; font-family:calibri\,sans-serif\; font-size:12pt">Friday\, April 8\, 2022</span><br />\n<span style="background-color:transparent\; color:rgb(0\, 0\, 0)\; font-family:calibri\,sans-serif\; font-size:12pt">6:30pm&ndash\;11:30pm</span></p>\n&nbsp\;\n\n<p><span style="background-color:transparent\; color:rgb(0\, 0\, 0)\; font-family:calibri\,sans-serif\; font-size:12pt">Where:</span></p>\n\n<p><span style="background-color:transparent\; color:rgb(0\, 0\, 0)\; font-family:calibri\,sans-serif\; font-size:12pt">Hotel ZaZa&ndash\;Museum District</span><br />\n<span style="background-color:transparent\; color:rgb(0\, 0\, 0)\; font-family:calibri\,sans-serif\; font-size:12pt">5701 Main St.\, Houston\, TX 77005</span></p>\n\n<p><span style="background-color:transparent\; color:rgb(0\, 0\, 0)\; font-family:calibri\,sans-serif\; font-size:12pt">Tickets: <a href="https://savorthehope.org/">https://savorthehope.org/&nbsp\;</a></span></p>\n\n<p><span style="background-color:transparent\; color:rgb(0\, 0\, 0)\; font-family:calibri\,sans-serif\; font-size:12pt">Become an A-Lister and shine at the Dev Gala. Secure your sponsorship/tickets by visiting SavorTheHope.org or contact Devereux&rsquo\;s Director of Development\, Joni Robertson\, at 281-316-5423 or </span><a href="mailto:jroberts@devereux.org" style="text-decoration-line: none\;"><span style="background-color:transparent\; color:rgb(5\, 99\, 193)\; font-family:calibri\,sans-serif\; font-size:12pt">jroberts@devereux.org</span></a><span style="background-color:transparent\; color:rgb(0\, 0\, 0)\; font-family:calibri\,sans-serif\; font-size:12pt">.</span></p>\n\n<p><span style="background-color:transparent\; color:rgb(0\, 0\, 0)\; font-family:calibri\,sans-serif\; font-size:12pt">The Savor the Hope Gala benefits the programs at Devereux Texas. Devereux has recently expanded their programs to meet the needs of the community&mdash\;providing critical mental health services to the local community and beyond. Due to limited mental health funding\, Devereux is dependent on the support of our community to ensure effective\, efficient\, and high-quality behavioral health services.&nbsp\;</span></p>\n\n<p><span style="background-color:transparent\; color:rgb(0\, 0\, 0)\; font-family:calibri\,sans-serif\; font-size:12pt">Devereux Texas Services</span></p>\n\n<p><span style="background-color:transparent\; color:rgb(0\, 0\, 0)\; font-family:calibri\,sans-serif\; font-size:12pt">League City Campus&nbsp\;&nbsp\;&nbsp\;&nbsp\;&nbsp\;&nbsp\;&nbsp\;&nbsp\;&nbsp\;&nbsp\;&nbsp\;&nbsp\;&nbsp\;&nbsp\;&nbsp\;&nbsp\;&nbsp\;&nbsp\;&nbsp\;&nbsp\;&nbsp\;&nbsp\;&nbsp\;&nbsp\;&nbsp\;&nbsp\;&nbsp\;&nbsp\;&nbsp\;&nbsp\;&nbsp\;&nbsp\;&nbsp\;&nbsp\;&nbsp\;&nbsp\;&nbsp\;&nbsp\;&nbsp\;&nbsp\;&nbsp\;&nbsp\;&nbsp\;&nbsp\;&nbsp\;&nbsp\;&nbsp\;&nbsp\;&nbsp\;&nbsp\;&nbsp\;&nbsp\;&nbsp\;&nbsp\;&nbsp\;&nbsp\;&nbsp\;&nbsp\;&nbsp\;&nbsp\;&nbsp\;&nbsp\;&nbsp\;&nbsp\;&nbsp\;&nbsp\;&nbsp\;</span></p>\n\n<ul>\n	<li>\n	<p><span style="background-color:transparent\; font-family:calibri\,sans-serif\; font-size:12pt">Behavioral Health Residential programs for ages 14 to 17</span></p>\n	</li>\n	<li>\n	<p><span style="background-color:transparent\; font-family:calibri\,sans-serif\; font-size:12pt">Autism/Intellectual and Developmental Disabilities Residential program for ages 8 to 17</span></p>\n	</li>\n	<li>\n	<p><span style="background-color:transparent\; font-family:calibri\,sans-serif\; font-size:12pt">Community-based autism services&mdash\;Coming Soon!</span></p>\n	</li>\n</ul>\n\n<p><span style="background-color:transparent\; color:rgb(0\, 0\, 0)\; font-family:calibri\,sans-serif\; font-size:12pt">Victoria Campus</span></p>\n\n<ul>\n	<li>\n	<p><span style="background-color:transparent\; font-family:calibri\,sans-serif\; font-size:12pt">Residential programs for adults and transitional-aged individuals for ages 16 and up</span></p>\n	</li>\n	<li>\n	<p><span style="background-color:transparent\; font-family:calibri\,sans-serif\; font-size:12pt">Community-based living programs</span></p>\n	</li>\n	<li>\n	<p><span style="background-color:transparent\; font-family:calibri\,sans-serif\; font-size:12pt">Vocational programs</span></p>\n	</li>\n</ul>\n<br />\n&nbsp\;
LOCATION:Hotel ZaZa Museum District 5701 Main St.\, Houston\, TX 77005
UID:e.2983.4207
SEQUENCE:3
DTSTAMP:20260421T135409Z
URL:https://business.tclmchamber.com/events/details/the-dev-gala-10th-annual-savor-the-hope-gala-4207
END:VEVENT

END:VCALENDAR
