BEGIN:VCALENDAR
VERSION:2.0
PRODID:-//ChamberMaster//Event Calendar 2.0//EN
METHOD:PUBLISH
X-PUBLISHED-TTL:P3D
REFRESH-INTERVAL:P3D
CALSCALE:GREGORIAN
BEGIN:VEVENT
DTSTART:20180414T160000Z
DTEND:20180414T210000Z
X-MICROSOFT-CDO-ALLDAYEVENT:FALSE
SUMMARY:TCISD Youthfest and Duck Derby 2018
DESCRIPTION:Are you ready for a duck race? Ducks go on sale March 5-April 13 for the 11th Annual TCISD Youthfest and Duck Derby. Purchase ducks for the race for a chance to win one of 10 great prizes and your chance at a new Ford car or truck. The event also includes games\, food and performances by TCISD student performers.\n\n\n\nFunds raised from the annual event\, hosted by the TCISD Foundation for the Future\, go to support TCISD students and teachers.
X-ALT-DESC;FMTTYPE=text/html:Are you ready for a duck race? Ducks go on sale March 5-April 13 for the 11th Annual TCISD Youthfest and Duck Derby. Purchase ducks for the race for a chance to win one of 10 great prizes and your chance at a new Ford car or truck. The event also includes games\, food and performances by TCISD student performers.<br />\n<br />\nFunds raised from the annual event\, hosted by the TCISD Foundation for the Future\, go to support TCISD students and teachers.
LOCATION:Sting Creek
UID:e.2983.3397
SEQUENCE:3
DTSTAMP:20260424T071329Z
URL:https://business.tclmchamber.com/events/details/tcisd-youthfest-and-duck-derby-2018-3397
END:VEVENT

END:VCALENDAR
