BEGIN:VCALENDAR
VERSION:2.0
PRODID:-//ChamberMaster//Event Calendar 2.0//EN
METHOD:PUBLISH
X-PUBLISHED-TTL:P3D
REFRESH-INTERVAL:P3D
CALSCALE:GREGORIAN
BEGIN:VEVENT
DTSTART:20180510T230000Z
DTEND:20180511T030000Z
X-MICROSOFT-CDO-ALLDAYEVENT:FALSE
SUMMARY:Taste of the Town and Auction
DESCRIPTION:Loosen up your belts and prepare for some fine feasting on some great cuisine prepared by our local culinary masters! For some of the "Best Bites" in town\, make plans to attend the Texas City-La Marque Chamber of Commerce Annual Taste of the Town and Auction on Thursday\, May 10th at the Doyle Convention Center\, 2010 5th Avenue N.\, Texas City.    \n\n \n\nWe should have around 30 food establishments with approximately 1\,000 visitors expected to fill up on the tasty cuisine. With many of local restaurants and beverage distributors participating\, this event provides a taste of something for everyone. Enjoy an evening of indulging as you stroll and sample the wide range of culinary delights. Taste of the Town will feature mouth-watering appetizers\, entrees\, side dishes\, desserts\, pastries\, and beverages from many of the area's finest restaurants\, caterers\, bakeries\, and beverage companies. A lot of tempting treats will be available for everyone to sample. \n\n \n\nThe Auction takes place immediately after the "Taste of the Town". The Live and Silent Auctions are THE BEST PLACE TO SHOP! You'll find that one-of-a-kind item at the popular Silent Auction.  Whether bidding for yourself or shopping for a gift\, you're guaranteed to find something you simply must have! We urge you to bring your checkbooks\, cash and credit cards and get ready to bid at the Auction! \n\n\n\nTickets: Adults $25 Children (under 12) $10.00\n\n  \n\nTo purchase tickets for Taste of the Town & Auction or for further information contact the Texas City-   La Marque Chamber of Commerce at (409) 935-1408 or visit our website at www.tclmchamber.com
X-ALT-DESC;FMTTYPE=text/html:<div style="color: rgb(97\, 92\, 96)\; font-family: Arial\, Verdana\, Helvetica\, sans-serif\; font-size: 14px\; white-space: pre-wrap\; background-color: rgb(255\, 255\, 255)\; text-align: justify\;"><span style="font-size: 12px\; font-family: &quot\;Lucida Sans Unicode&quot\;\, &quot\;Lucida Grande&quot\;\, sans-serif\;">Loosen up your belts and prepare for some fine feasting on some great cuisine prepared by our local culinary masters!&nbsp\;For some of the &ldquo\;Best Bites&rdquo\; in town\, make plans to attend the </span><span style="font-size: 12px\; font-family: &quot\;Lucida Sans Unicode&quot\;\, &quot\;Lucida Grande&quot\;\, sans-serif\; font-weight: bold\;">Texas City-La Marque Chamber of Commerce Annual</span><span style="font-size: 12px\; font-family: &quot\;Lucida Sans Unicode&quot\;\, &quot\;Lucida Grande&quot\;\, sans-serif\;"> </span><span style="font-size: 12px\; font-weight: bold\; font-family: &quot\;Lucida Sans Unicode&quot\;\, &quot\;Lucida Grande&quot\;\, sans-serif\;">Taste of the Town and Auction on Thursday\, May 10</span><sup style="line-height: 0\; font-size: 12px\; font-weight: bold\; font-family: &quot\;Lucida Sans Unicode&quot\;\, &quot\;Lucida Grande&quot\;\, sans-serif\;">th</sup><span style="font-size: 12px\; font-weight: bold\; font-family: &quot\;Lucida Sans Unicode&quot\;\, &quot\;Lucida Grande&quot\;\, sans-serif\;"> at the Doyle Convention Center\, 2010 5</span><sup style="line-height: 0\; font-size: 12px\; font-weight: bold\; font-family: &quot\;Lucida Sans Unicode&quot\;\, &quot\;Lucida Grande&quot\;\, sans-serif\;">th</sup><span style="font-size: 12px\; font-weight: bold\; font-family: &quot\;Lucida Sans Unicode&quot\;\, &quot\;Lucida Grande&quot\;\, sans-serif\;"> Avenue N.\, Texas City.&nbsp\;</span><span style="font-size: 12px\; font-family: &quot\;Lucida Sans Unicode&quot\;\, &quot\;Lucida Grande&quot\;\, sans-serif\;">&nbsp\;&nbsp\;&nbsp\;</span></div>\n\n<div style="color: rgb(97\, 92\, 96)\; font-family: Arial\, Verdana\, Helvetica\, sans-serif\; font-size: 14px\; white-space: pre-wrap\; background-color: rgb(255\, 255\, 255)\; text-align: justify\;">&nbsp\;</div>\n\n<div style="color: rgb(97\, 92\, 96)\; font-family: Arial\, Verdana\, Helvetica\, sans-serif\; font-size: 14px\; white-space: pre-wrap\; background-color: rgb(255\, 255\, 255)\; text-align: justify\;"><span style="font-size: 12px\; font-weight: bold\; font-family: &quot\;Lucida Sans Unicode&quot\;\, &quot\;Lucida Grande&quot\;\, sans-serif\;">We should have around 30 food establishments with approximately 1\,000 visitors expected to fill up on the tasty cuisine.&nbsp\;With many of local restaurants and beverage distributors participating\, this event provides a taste of something for everyone. Enjoy an evening of indulging as you stroll and sample the wide range of culinary delights. </span><span style="font-family: &quot\;Lucida Sans Unicode&quot\;\, &quot\;Lucida Grande&quot\;\, sans-serif\; color: rgb(65\, 41\, 30)\; font-size: 12px\;">Taste of the Town will feature mouth-watering appetizers\, entrees\, side dishes\, desserts\, pastries\, and beverages from many of the area&#39\;s finest restaurants\, caterers\, bakeries\, and beverage companies.&nbsp\;A lot of tempting treats will be available for everyone to sample.&nbsp\;</span></div>\n\n<div style="color: rgb(97\, 92\, 96)\; font-family: Arial\, Verdana\, Helvetica\, sans-serif\; font-size: 14px\; white-space: pre-wrap\; background-color: rgb(255\, 255\, 255)\;"><span style="font-family: &quot\;Lucida Sans Unicode&quot\;\, &quot\;Lucida Grande&quot\;\, sans-serif\; color: rgb(65\, 41\, 30)\; font-size: 12px\;">&nbsp\;</span></div>\n\n<div style="color: rgb(97\, 92\, 96)\; font-family: Arial\, Verdana\, Helvetica\, sans-serif\; font-size: 14px\; white-space: pre-wrap\; background-color: rgb(255\, 255\, 255)\;"><span style="font-family: &quot\;Lucida Sans Unicode&quot\;\, &quot\;Lucida Grande&quot\;\, sans-serif\; color: rgb(65\, 41\, 30)\; font-size: 12px\;">The Auction takes place immediately after the &quot\;Taste of the Town&quot\;.&nbsp\;The Live and Silent Auctions are THE BEST PLACE TO SHOP!&nbsp\;You&#39\;ll find that one-of-a-kind item at the popular Silent Auction.&nbsp\;&nbsp\;Whether bidding for yourself or shopping for a gift\, you&#39\;re guaranteed to find something you simply must have!&nbsp\;We urge you to bring your checkbooks\, cash and credit cards and get ready to bid at the Auction!&nbsp\;<br />\n<br />\nTickets: Adults $25 Children (under 12) $10.00</span></div>\n\n<div style="color: rgb(97\, 92\, 96)\; font-family: Arial\, Verdana\, Helvetica\, sans-serif\; font-size: 14px\; white-space: pre-wrap\; background-color: rgb(255\, 255\, 255)\;"><span style="font-family: &quot\;Lucida Sans Unicode&quot\;\, &quot\;Lucida Grande&quot\;\, sans-serif\; color: rgb(65\, 41\, 30)\; font-size: 12px\;">&nbsp\;</span><span style="font-family: &quot\;Lucida Sans Unicode&quot\;\, &quot\;Lucida Grande&quot\;\, sans-serif\; font-size: 12px\;">&nbsp\;</span></div>\n\n<div style="color: rgb(97\, 92\, 96)\; font-family: Arial\, Verdana\, Helvetica\, sans-serif\; font-size: 14px\; white-space: pre-wrap\; background-color: rgb(255\, 255\, 255)\;"><span style="font-family: &quot\;Lucida Sans Unicode&quot\;\, &quot\;Lucida Grande&quot\;\, sans-serif\; font-size: 12px\;">To purchase tickets for Taste of the Town &amp\; Auction or for further information contact the Texas City-&nbsp\;&nbsp\;&nbsp\;La Marque Chamber of Commerce at (409) 935-1408 or visit our website at </span><a href="http://www.tclmchamber.com/" style="color: rgb(64\, 65\, 111)\; font-family: &quot\;Lucida Sans Unicode&quot\;\, &quot\;Lucida Grande&quot\;\, sans-serif\; font-size: 12px\;" target="_blank">www.tclmchamber.com</a><span style="font-family: &quot\;Lucida Sans Unicode&quot\;\, &quot\;Lucida Grande&quot\;\, sans-serif\; font-size: 12px\;"> </span></div>\n
LOCATION:Doyle Convention Center 2010 5th Avenue N. Texas City\, Texas 77590
UID:e.2983.3344
SEQUENCE:3
DTSTAMP:20260424T044256Z
URL:https://business.tclmchamber.com/events/details/taste-of-the-town-and-auction-3344
END:VEVENT

END:VCALENDAR
