BEGIN:VCALENDAR
VERSION:2.0
PRODID:-//ChamberMaster//Event Calendar 2.0//EN
METHOD:PUBLISH
X-PUBLISHED-TTL:P3D
REFRESH-INTERVAL:P3D
CALSCALE:GREGORIAN
BEGIN:VEVENT
DTSTART:20190220T173000Z
DTEND:20190220T190000Z
X-MICROSOFT-CDO-ALLDAYEVENT:FALSE
SUMMARY:State of the County and Cities Business Luncheon
DESCRIPTION:Join us to hear updates about what's going on in Galveston County and the cities of La Marque and Texas City.  Our speakers will be Galveston County Judge Mark Henry\, La Marque Mayor Bobby Hocking and Texas City Mayor Matt Doyle.
X-ALT-DESC;FMTTYPE=text/html:Join us to hear updates about what&#39\;s going on in Galveston County and the cities of La Marque and Texas City.&nbsp\; Our speakers will be Galveston County Judge Mark Henry\, La Marque Mayor Bobby Hocking and Texas City Mayor Matt Doyle.
LOCATION:Doyle Convention Center 2010 5th Avenue N. Texas City\, Texas 77590
UID:e.2983.3565
SEQUENCE:3
DTSTAMP:20260423T172902Z
URL:https://business.tclmchamber.com/events/details/state-of-the-county-and-cities-business-luncheon-3565
END:VEVENT

END:VCALENDAR
