BEGIN:VCALENDAR
VERSION:2.0
PRODID:-//ChamberMaster//Event Calendar 2.0//EN
METHOD:PUBLISH
X-PUBLISHED-TTL:P3D
REFRESH-INTERVAL:P3D
CALSCALE:GREGORIAN
BEGIN:VEVENT
DTSTART:20190404T163000Z
DTEND:20190404T180000Z
X-MICROSOFT-CDO-ALLDAYEVENT:FALSE
SUMMARY:State of Industry Luncheon
DESCRIPTION:Hear Industry    \n\nupdates from  these \n\nIndustry leaders:                      \n\n \n\nKevin Bogard\n\nMarathon Petroleum\n\n \n\nAaron Cameron \n\nAshland \n\n \n\nBrooke  Hrach\n\nDow Chemical Co. \n\n \n\nSergio Matute \n\nEastman\n\n \n\n Sal Viscontini  \n\nValero Refining\n\n \n\nPeter Nowobilski \n\nBP Chemicals
X-ALT-DESC;FMTTYPE=text/html:<span style="font-weight:bold\;text-transform:uppercase\;language:en-US\;"><span style="font-family:century gothic\;"><span style="font-size:14.0pt\;">Hear Industry&nbsp\;&nbsp\;&nbsp\; </span></span></span><br />\n<span style="font-weight:bold\;text-transform:uppercase\;language:en-US\;"><span style="font-family:century gothic\;"><span style="font-size:14.0pt\;">updates from&nbsp\; these </span></span></span><br />\n<span style="font-weight:bold\;text-transform:uppercase\;language:en-US\;"><span style="font-family:century gothic\;"><span style="font-size:14.0pt\;">Industry leaders</span></span></span><span style="font-weight:bold\;text-transform:uppercase\;language:en-US\;"><span style="font-family:century gothic\;"><span style="font-size:12.0pt\;">:&nbsp\; </span></span></span>&nbsp\;&nbsp\;&nbsp\;&nbsp\;&nbsp\;&nbsp\;&nbsp\;&nbsp\;&nbsp\;&nbsp\;&nbsp\;&nbsp\;&nbsp\;&nbsp\;&nbsp\;&nbsp\;&nbsp\;&nbsp\;&nbsp\;&nbsp\;<br />\n&nbsp\;<br />\n<span style="font-weight:bold\;text-transform:uppercase\;language:en-US\;"><span style="font-family:century gothic\;"><span style="font-size:13.0pt\;">Kevin Bogard</span></span></span><br />\n<span style="font-weight:bold\;text-transform:uppercase\;language:en-US\;"><span style="font-family:century gothic\;"><span style="font-size:12.0pt\;">Marathon Petroleum</span></span></span><br />\n&nbsp\;<br />\n<span style="font-size:14px\;"><span style="font-weight:bold\;text-transform:uppercase\;language:en-US\;"><span style="font-family:century gothic\;">Aaron Cameron </span></span><br />\n<span style="font-weight:bold\;text-transform:uppercase\;language:en-US\;"><span style="font-family:century gothic\;">Ashland </span></span><br />\n&nbsp\;<br />\n<span style="font-weight:bold\;text-transform:uppercase\;language:en-US\;"><span style="font-family:century gothic\;">Brooke&nbsp\; Hrach</span></span><br />\n<span style="font-weight:bold\;text-transform:uppercase\;language:en-US\;"><span style="font-family:century gothic\;">Dow Chemical Co. </span></span><br />\n&nbsp\;<br />\n<span style="font-weight:bold\;text-transform:uppercase\;language:en-US\;"><span style="font-family:century gothic\;">Sergio Matute </span></span><br />\n<span style="font-weight:bold\;text-transform:uppercase\;language:en-US\;"><span style="font-family:century gothic\;">Eastman</span></span><br />\n&nbsp\;<br />\n&nbsp\;<span style="font-weight:bold\;text-transform:uppercase\;language:en-US\;"><span style="font-family:century gothic\;">Sal Viscontini&nbsp\; </span></span><br />\n<span style="font-weight:bold\;text-transform:uppercase\;language:en-US\;"><span style="font-family:century gothic\;">Valero Refining</span></span><br />\n&nbsp\;<br />\n<span style="font-weight:bold\;text-transform:uppercase\;language:en-US\;"><span style="font-family:century gothic\;">Peter Nowobilski </span></span><br />\n<span style="font-weight:bold\;text-transform:uppercase\;language:en-US\;"><span style="font-family:century gothic\;">BP Chemicals </span></span><br />\n&nbsp\;</span>
LOCATION:COLLEGE OF THE MAINLAND Conference Center 1200 Amburn Road | Texas City\, TX
UID:e.2983.3599
SEQUENCE:3
DTSTAMP:20260423T125906Z
URL:https://business.tclmchamber.com/events/details/state-of-industry-luncheon-3599
END:VEVENT

END:VCALENDAR
