BEGIN:VCALENDAR
VERSION:2.0
PRODID:-//ChamberMaster//Event Calendar 2.0//EN
METHOD:PUBLISH
X-PUBLISHED-TTL:P3D
REFRESH-INTERVAL:P3D
CALSCALE:GREGORIAN
BEGIN:VEVENT
DTSTART:20201114T000000Z
DTEND:20201114T040000Z
X-MICROSOFT-CDO-ALLDAYEVENT:FALSE
SUMMARY:Shrimp Boil - Postponed until 2021
DESCRIPTION:Event Postponed until 2021
X-ALT-DESC;FMTTYPE=text/html:<span style="font-size:20px\;"><strong><font color="#414141" face="Segoe UI\, Arial\, Helvetica\, sans-serif">Event Postponed until 2021</font></strong></span>
LOCATION:
UID:e.2983.3918
SEQUENCE:3
DTSTAMP:20260422T111243Z
URL:https://business.tclmchamber.com/events/details/shrimp-boil-postponed-until-2021-3918
END:VEVENT

END:VCALENDAR
