BEGIN:VCALENDAR
VERSION:2.0
PRODID:-//ChamberMaster//Event Calendar 2.0//EN
METHOD:PUBLISH
X-PUBLISHED-TTL:P3D
REFRESH-INTERVAL:P3D
CALSCALE:GREGORIAN
BEGIN:VEVENT
DTSTART:20180824T233000Z
DTEND:20180825T030000Z
X-MICROSOFT-CDO-ALLDAYEVENT:FALSE
SUMMARY:Shrimp Boil
DESCRIPTION:Young and old and everyone in between agree\, the Shrimp Boil is a night to relax and just have a good time while visiting with friends and neighbors. The Shrimp Boil is a favorite tradition of the community which has been held for over 40 years\, and it pulls a crowd of approximately 1\,200 people each year! This time-honored event is for its residents\, visitors\, friends and business associates to gather round and kick up their heels in celebration of the end of summer and to enjoy the bountiful shrimp season. The succulent shrimp\, cold beer and music makes this event one of the most popular.
X-ALT-DESC;FMTTYPE=text/html:Young and old and everyone in between agree\, the Shrimp Boil is a night to relax and just have a good time while visiting with friends and neighbors. The Shrimp Boil is a favorite tradition of the community which has been held for over 40 years\, and it pulls a crowd of approximately 1\,200 people each year! This time-honored event is for its residents\, visitors\, friends and business associates to gather round and kick up their heels in celebration of the end of summer and to enjoy the bountiful shrimp season. The succulent shrimp\, cold beer and music makes this event one of the most popular.
LOCATION:Rotary Pavilion (weather dependent) 2010 5th Ave N Texas City\, TX 77590 Inclement Weather Location: Nessler Center 2010 5th Ave N Texas City\, Texas 77590
UID:e.2983.3546
SEQUENCE:3
DTSTAMP:20260424T005052Z
URL:https://business.tclmchamber.com/events/details/shrimp-boil-08-24-2018-3546
END:VEVENT

END:VCALENDAR
