BEGIN:VCALENDAR
VERSION:2.0
PRODID:-//ChamberMaster//Event Calendar 2.0//EN
METHOD:PUBLISH
X-PUBLISHED-TTL:P3D
REFRESH-INTERVAL:P3D
CALSCALE:GREGORIAN
BEGIN:VEVENT
DTSTART:20220517T213000Z
DTEND:20220517T220000Z
X-MICROSOFT-CDO-ALLDAYEVENT:FALSE
SUMMARY:Ribbon Cutting - Terror Isle Adventures
DESCRIPTION:Ribbon Cutting is at 4:30 p.m.
X-ALT-DESC;FMTTYPE=text/html:Ribbon Cutting is at 4:30 p.m.
LOCATION:518 6th St N. Texas City\, TX 77590
UID:e.2983.4223
SEQUENCE:3
DTSTAMP:20260421T123520Z
URL:https://business.tclmchamber.com/events/details/ribbon-cutting-terror-isle-adventures-4223
END:VEVENT

END:VCALENDAR
