BEGIN:VCALENDAR
VERSION:2.0
PRODID:-//ChamberMaster//Event Calendar 2.0//EN
METHOD:PUBLISH
X-PUBLISHED-TTL:P3D
REFRESH-INTERVAL:P3D
CALSCALE:GREGORIAN
BEGIN:VEVENT
DTSTART:20220222T173000Z
DTEND:20220222T180000Z
X-MICROSOFT-CDO-ALLDAYEVENT:FALSE
SUMMARY:Ribbon Cutting - Mary's Sweet Shoppe Bakery and Deli
DESCRIPTION:
X-ALT-DESC;FMTTYPE=text/html:
LOCATION:3139 Highway 6 Hitchcock\, TX 77563
UID:e.2983.4204
SEQUENCE:3
DTSTAMP:20260421T165440Z
URL:https://business.tclmchamber.com/events/details/ribbon-cutting-mary-s-sweet-shoppe-bakery-and-deli-4204
END:VEVENT

END:VCALENDAR
