BEGIN:VCALENDAR
VERSION:2.0
PRODID:-//ChamberMaster//Event Calendar 2.0//EN
METHOD:PUBLISH
X-PUBLISHED-TTL:P3D
REFRESH-INTERVAL:P3D
CALSCALE:GREGORIAN
BEGIN:VEVENT
DTSTART:20210729T163000Z
DTEND:20210729T170000Z
X-MICROSOFT-CDO-ALLDAYEVENT:FALSE
SUMMARY:Ribbon Cutting - KCG Industrial
DESCRIPTION:
X-ALT-DESC;FMTTYPE=text/html:
LOCATION:TCLM Chamber Conference Room 9702 Emmett F Lowry Expy Texas City\, TX 77591
UID:e.2983.4100
SEQUENCE:3
DTSTAMP:20260422T020805Z
URL:https://business.tclmchamber.com/events/details/ribbon-cutting-kcg-industrial-4100
END:VEVENT

END:VCALENDAR
