BEGIN:VCALENDAR
VERSION:2.0
PRODID:-//ChamberMaster//Event Calendar 2.0//EN
METHOD:PUBLISH
X-PUBLISHED-TTL:P3D
REFRESH-INTERVAL:P3D
CALSCALE:GREGORIAN
BEGIN:VEVENT
DTSTART:20210921T230000Z
DTEND:20210921T233000Z
X-MICROSOFT-CDO-ALLDAYEVENT:FALSE
SUMMARY:Ribbon Cutting - Hayley Elementary
DESCRIPTION:
X-ALT-DESC;FMTTYPE=text/html:
LOCATION:1431 Bayou Rd La Marque\, TX 77568
UID:e.2983.4113
SEQUENCE:3
DTSTAMP:20260421T220029Z
URL:https://business.tclmchamber.com/events/details/ribbon-cutting-hayley-elementary-4113
END:VEVENT

END:VCALENDAR
