BEGIN:VCALENDAR
VERSION:2.0
PRODID:-//ChamberMaster//Event Calendar 2.0//EN
METHOD:PUBLISH
X-PUBLISHED-TTL:P3D
REFRESH-INTERVAL:P3D
CALSCALE:GREGORIAN
BEGIN:VEVENT
DTSTART:20210901T183000Z
DTEND:20210901T190000Z
X-MICROSOFT-CDO-ALLDAYEVENT:FALSE
SUMMARY:Ribbon Cutting - Girls Trip by Noel
DESCRIPTION:
X-ALT-DESC;FMTTYPE=text/html:
LOCATION:TCLM Chamber Conference Room 9702 Emmett F Lowry Expy Texas City\, TX 77591
UID:e.2983.4110
SEQUENCE:3
DTSTAMP:20260421T220432Z
URL:https://business.tclmchamber.com/events/details/ribbon-cutting-girls-trip-by-noel-4110
END:VEVENT

END:VCALENDAR
