BEGIN:VCALENDAR
VERSION:2.0
PRODID:-//ChamberMaster//Event Calendar 2.0//EN
METHOD:PUBLISH
X-PUBLISHED-TTL:P3D
REFRESH-INTERVAL:P3D
CALSCALE:GREGORIAN
BEGIN:VEVENT
DTSTART:20220420T170000Z
DTEND:20220420T173000Z
X-MICROSOFT-CDO-ALLDAYEVENT:FALSE
SUMMARY:Ribbon Cutting - Courtyard by Marriot and Townplace Suites on Galveston Island
DESCRIPTION:
X-ALT-DESC;FMTTYPE=text/html:
LOCATION:9550 Seawall Blvd. Galveston\, TX 77554
UID:e.2983.4217
SEQUENCE:3
DTSTAMP:20260421T125202Z
URL:https://business.tclmchamber.com/events/details/ribbon-cutting-courtyard-by-marriot-and-townplace-suites-on-galveston-island-4217
END:VEVENT

END:VCALENDAR
