BEGIN:VCALENDAR
VERSION:2.0
PRODID:-//ChamberMaster//Event Calendar 2.0//EN
METHOD:PUBLISH
X-PUBLISHED-TTL:P3D
REFRESH-INTERVAL:P3D
CALSCALE:GREGORIAN
BEGIN:VEVENT
DTSTART:20210707T180000Z
DTEND:20210707T183000Z
X-MICROSOFT-CDO-ALLDAYEVENT:FALSE
SUMMARY:Ribbon Cutting - Art of Coffee
DESCRIPTION:
X-ALT-DESC;FMTTYPE=text/html:
LOCATION:405 Laurel Street La Marque\, TX 77568
UID:e.2983.4092
SEQUENCE:3
DTSTAMP:20260422T005111Z
URL:https://business.tclmchamber.com/events/details/ribbon-cutting-art-of-coffee-4092
END:VEVENT

END:VCALENDAR
