BEGIN:VCALENDAR
VERSION:2.0
PRODID:-//ChamberMaster//Event Calendar 2.0//EN
METHOD:PUBLISH
X-PUBLISHED-TTL:P3D
REFRESH-INTERVAL:P3D
CALSCALE:GREGORIAN
BEGIN:VEVENT
DTSTART:20220303T220000Z
DTEND:20220303T223000Z
X-MICROSOFT-CDO-ALLDAYEVENT:FALSE
SUMMARY:Ribbon Cutting - Ameriprise Financial
DESCRIPTION:Open house from 3:30-5:00 p.m.\n\nRibbon Cutting is at 4:00 p.m.
X-ALT-DESC;FMTTYPE=text/html:Open house from 3:30-5:00 p.m.<br />\nRibbon Cutting is at 4:00 p.m.
LOCATION:1300 Hercules Ave Suite 205 Houston\, TX 77058
UID:e.2983.4215
SEQUENCE:3
DTSTAMP:20260421T152610Z
URL:https://business.tclmchamber.com/events/details/ribbon-cutting-ameriprise-financial-4215
END:VEVENT

END:VCALENDAR
