BEGIN:VCALENDAR
VERSION:2.0
PRODID:-//ChamberMaster//Event Calendar 2.0//EN
METHOD:PUBLISH
X-PUBLISHED-TTL:P3D
REFRESH-INTERVAL:P3D
CALSCALE:GREGORIAN
BEGIN:VEVENT
DTSTART:20190308T220000Z
DTEND:20190308T230000Z
X-MICROSOFT-CDO-ALLDAYEVENT:FALSE
SUMMARY:Representative Mayes Middleton Ribbon Cutting
DESCRIPTION:Ribbon Cutting
X-ALT-DESC;FMTTYPE=text/html:Ribbon Cutting&nbsp\;
LOCATION:2101 Mechanic Street Suite 245 Galveston\, Texas 77550
UID:e.2983.3623
SEQUENCE:3
DTSTAMP:20260423T142149Z
URL:https://business.tclmchamber.com/events/details/representative-mayes-middleton-ribbon-cutting-3623
END:VEVENT

END:VCALENDAR
