BEGIN:VCALENDAR
VERSION:2.0
PRODID:-//ChamberMaster//Event Calendar 2.0//EN
METHOD:PUBLISH
X-PUBLISHED-TTL:P3D
REFRESH-INTERVAL:P3D
CALSCALE:GREGORIAN
BEGIN:VEVENT
DTSTART:20220609T223000Z
DTEND:20220610T000000Z
X-MICROSOFT-CDO-ALLDAYEVENT:FALSE
SUMMARY:Night on the Town
DESCRIPTION:Texas City-La Marque Chamber presents this "Night on the Town" after-hours business mixer.\n\n\n\nUnwind after work and build your network! Enjoy complimentary food and drinks.\n\n\n\nBring plenty of business cards! You are invited to bring a door prize from your business to be given away. It's a great way to promote your business!\n\n\n\nThis "Hurricane Party" will be hosted at Houston Hurricane & Security Products!!! Special beverages provided by Del Papa Distributing!\n\n\n\nThere is no cost to attend. But everyone who RSVPs in advance will be entered for an extra door prize drawing!  (Click the REGISTER button on this page to RSVP your attendance.)
X-ALT-DESC;FMTTYPE=text/html:<span style="font-size:18px\;">Texas City-La Marque Chamber presents this &quot\;Night on the Town&quot\; after-hours business mixer.</span><br />\n<br />\nUnwind after work and build your network! Enjoy complimentary food and drinks.<br />\n<br />\nBring plenty of business cards! You are invited to bring a door prize from your business to be given away. It&#39\;s a great way to promote your business!<br />\n<br />\nThis &quot\;Hurricane Party&quot\; will be hosted at <strong>Houston Hurricane &amp\; Security Products</strong>!!! Special beverages provided by Del Papa Distributing!<br />\n<br />\nThere is no cost to attend. But everyone who RSVPs in advance will be entered for an extra door prize drawing!&nbsp\; (Click the REGISTER button on this page to RSVP your attendance.)
LOCATION:Houston Hurricane & Security Products 5102 Hwy. 3\, Dickinson TX 77539
UID:e.2983.4222
SEQUENCE:3
DTSTAMP:20260421T100635Z
URL:https://business.tclmchamber.com/events/details/night-on-the-town-4222
END:VEVENT

END:VCALENDAR
