BEGIN:VCALENDAR
VERSION:2.0
PRODID:-//ChamberMaster//Event Calendar 2.0//EN
METHOD:PUBLISH
X-PUBLISHED-TTL:P3D
REFRESH-INTERVAL:P3D
CALSCALE:GREGORIAN
BEGIN:VEVENT
DTSTART:20220728T223000Z
DTEND:20220729T000000Z
X-MICROSOFT-CDO-ALLDAYEVENT:FALSE
SUMMARY:Night on the Town
DESCRIPTION:Aloha! You're invited to this after hours business mixer hosted at LagoonFest at Lago Mar!!! \n\n\n\nUnwind after work and build your network! Enjoy complimentary food and drinks.\n\n\n\nBring plenty of business cards! You are invited to bring a door prize from your business to be given away. It's a great way to promote your business!\n\n\n\nThere is no cost to attend. But everyone who RSVPs in advance will be entered for an extra door prize drawing!  (Click the REGISTER button on this page to RSVP your attendance.)
X-ALT-DESC;FMTTYPE=text/html:<span style="font-size: 18px\;">Aloha! You&#39\;re invited to this after hours business mixer hosted at LagoonFest at Lago Mar!!!</span>&nbsp\;<br />\n<br />\nUnwind after work and build your network! Enjoy complimentary food and drinks.<br />\n<br />\nBring plenty of business cards! You are invited to bring a door prize from your business to be given away. It&#39\;s a great way to promote your business!<br />\n<br />\nThere is no cost to attend. But everyone who RSVPs in advance will be entered for an extra door prize drawing!&nbsp\; (Click the REGISTER button on this page to RSVP your attendance.)
LOCATION:Lagoon Fest Texas 12930 Crystal View Blvd.\, Texas City\, TX 77568
UID:e.2983.4173
SEQUENCE:3
DTSTAMP:20260421T083742Z
URL:https://business.tclmchamber.com/events/details/night-on-the-town-4173
END:VEVENT

END:VCALENDAR
