BEGIN:VCALENDAR
VERSION:2.0
PRODID:-//ChamberMaster//Event Calendar 2.0//EN
METHOD:PUBLISH
X-PUBLISHED-TTL:P3D
REFRESH-INTERVAL:P3D
CALSCALE:GREGORIAN
BEGIN:VEVENT
DTSTART:20220512T223000Z
DTEND:20220513T000000Z
X-MICROSOFT-CDO-ALLDAYEVENT:FALSE
SUMMARY:Night on the Town
DESCRIPTION:Texas City-La Marque Chamber presents "Night on the Town" after-hours business mixer.\n\n\n\nUnwind after work and build your network! Enjoy complimentary food and drinks.\n\n\n\nBring plenty of business cards! You are invited to bring a door prize from your business to be given away. It's a great way to promote yourself!\n\n\n\nThis event will be hosted at Karat Creations Jewelry on 6th Street. Special beverages provided by Del Papa Distributing!\n\n\n\nThere is no cost to attend. But everyone who RSVPs in advance will be entered for an extra door prize drawing!  (Click the REGISTER button on this page to RSVP your attendance.)
X-ALT-DESC;FMTTYPE=text/html:<span background-color:="" font-size:="" segoe="" style="color: rgb(5\, 5\, 5)\; font-family: " ui="">Texas City-La Marque Chamber presents &quot\;Night on the Town&quot\; after-hours business mixer.<br />\n<br />\nUnwind after work and build your network! Enjoy complimentary food and drinks.<br />\n<br />\nBring plenty of business cards! You are invited to bring a door prize from your business to be given away. It&#39\;s a great way to promote yourself!<br />\n<br />\nThis event will be hosted at Karat Creations Jewelry on 6th Street. Special beverages provided by Del Papa Distributing!<br />\n<br />\nThere is no cost to attend. But everyone who RSVPs in advance will be entered for an extra door prize drawing!&nbsp\; (Click the REGISTER button on this page to RSVP your attendance.)</span><br />\n<br />\n&nbsp\;
LOCATION:Karat Creations Jewelry 811 6th St N Texas City\, TX 77590
UID:e.2983.4172
SEQUENCE:3
DTSTAMP:20260421T123449Z
URL:https://business.tclmchamber.com/events/details/night-on-the-town-4172
END:VEVENT

END:VCALENDAR
