BEGIN:VCALENDAR
VERSION:2.0
PRODID:-//ChamberMaster//Event Calendar 2.0//EN
METHOD:PUBLISH
X-PUBLISHED-TTL:P3D
REFRESH-INTERVAL:P3D
CALSCALE:GREGORIAN
BEGIN:VEVENT
DTSTART:20220329T223000Z
DTEND:20220330T000000Z
X-MICROSOFT-CDO-ALLDAYEVENT:FALSE
SUMMARY:Night on the Town
DESCRIPTION:Unwind after work and expand your network! This after-hours event is sponsored by the WaterGrove Event Venue. Enjoy appetizers\, drinks and mingling with local business leaders.\n\n\n\nFree for Chamber members and employees.  Those who click the "Register" button to RSVP in advance will be entered for a special prize drawing!  (Must be present to win!)\n\n\n\nAt this event\, visit with several area non-profits and find out how you can get involved!\n\n	United Way Galveston County Mainland\n	Bay Area Transportation Partnership\n	Anchor Point\n	Craving For A Change\n	Santa Fe Texas Education Foundation\n	Bay Area Habitat for Humanity\n	Bay Area Alliance for Youth and Families\n	Devereux Advanced Behavioral Health \n	Higher Up Texas\n	Hospice Care Team\n	CASA of Galveston County\n	Samaritan Women at the Well\n	SoleAna Stables\n	M.I. Lewis Social Service Center\n	Interfaith Ministries\n	Lifelife of Galveston County\n	Lost & Found Ministries\n	KHEA Radio/Clear Life Media\n	Independence Village\n	Animal Alliance of Galveston County\n	Bay Area Turning Point\n\n\n\nThe WaterGrove Event Venue is located in Dickinson just west of I-45 off FM 517! (Turn at the Wendy's restaurant onto Medical Park Drive and continue south until you see the venue on your left.)\n\n\n\nContact the Chamber with any questions before the event:  events@tclmchamber.com
X-ALT-DESC;FMTTYPE=text/html:Unwind after work and expand your network! This after-hours event is sponsored by the WaterGrove Event Venue. Enjoy appetizers\, drinks and mingling with local business leaders.<br />\n<br />\nFree for Chamber members and employees.&nbsp\; Those who click the &quot\;Register&quot\; button to RSVP in advance will be entered for a special prize drawing!&nbsp\; (Must be present to win!)<br />\n<br />\nAt this event\, visit with several area non-profits and find out how you can get involved!\n<ul>\n	<li>United Way Galveston County Mainland</li>\n	<li>Bay Area Transportation Partnership</li>\n	<li>Anchor Point</li>\n	<li>Craving For A Change</li>\n	<li>Santa Fe Texas Education Foundation</li>\n	<li>Bay Area Habitat for Humanity</li>\n	<li>Bay Area Alliance for Youth and Families</li>\n	<li>Devereux Advanced Behavioral Health&nbsp\;</li>\n	<li>Higher Up Texas</li>\n	<li>Hospice Care Team</li>\n	<li>CASA of Galveston County</li>\n	<li>Samaritan Women at the Well</li>\n	<li>SoleAna Stables</li>\n	<li>M.I. Lewis Social Service Center</li>\n	<li>Interfaith Ministries</li>\n	<li>Lifelife of Galveston County</li>\n	<li>Lost &amp\; Found Ministries</li>\n	<li>KHEA Radio/Clear Life Media</li>\n	<li>Independence Village</li>\n	<li>Animal Alliance of Galveston County</li>\n	<li>Bay Area Turning Point</li>\n</ul>\n<br />\n<strong>The WaterGrove Event Venue is located in Dickinson just west of I-45 off FM 517! </strong>(Turn at the Wendy&#39\;s restaurant onto Medical Park Drive and continue south until you see the venue on your left.)<br />\n<br />\nContact the Chamber with any questions before the event:&nbsp\; events@tclmchamber.com<br />\n&nbsp\;
LOCATION:WaterGrove Event Venue 3920 Gulf Freeway S.\, Dickinson\, TX 77539 (located just west of I-45 off FM 517. Turn at the Wendy's and go south on Medical Park Drive)endy's restaurant onto Medical Park Drive and continue south until you see the venue on the left.)
UID:e.2983.4171
SEQUENCE:3
DTSTAMP:20260421T135217Z
URL:https://business.tclmchamber.com/events/details/night-on-the-town-4171
END:VEVENT

END:VCALENDAR
