BEGIN:VCALENDAR
VERSION:2.0
PRODID:-//ChamberMaster//Event Calendar 2.0//EN
METHOD:PUBLISH
X-PUBLISHED-TTL:P3D
REFRESH-INTERVAL:P3D
CALSCALE:GREGORIAN
BEGIN:VEVENT
DTSTART:20220322T210000Z
DTEND:20220322T220000Z
X-MICROSOFT-CDO-ALLDAYEVENT:FALSE
SUMMARY:Level UP Workshop - How to get Top Results in Google
DESCRIPTION:Level UP your business in 2022!\n\n\n\n\n\nAt this week's workshop\, hear about the online Digital Tools that every business MUST BE USING to stay relevant and customer-focused in 2022 and beyond.\n\n\n\nGuest speaker Frank Mulcahy will walk you through the basics and introduce you to an online library of helpful videos that are available to Chamber Members Only!  You will be given a link to gain access to this library for only $1 (others pay $289).\n\n\n\nThis workshop is free\, but seating is limited.  Click the "REGISTER" button on this page to reserve your seat.\n\n\n\nHosted at the Chamber of Commerce building.\n\n\n\n\n\nThis workshop is free\, but seating is limited. Reservations will be taken the two weeks prior to the session.  Please set a "Reminder" and check back soon!
X-ALT-DESC;FMTTYPE=text/html:<strong><span style="font-size:20px\;">Level UP your business in 2022!</span></strong><br />\n<br />\n<br />\n<span style="font-size:16px\;">At this week&#39\;s workshop\, hear about the online Digital Tools that every business MUST BE USING to stay relevant and customer-focused in 2022 and beyond.<br />\n<br />\nGuest speaker Frank Mulcahy will walk you through the basics and introduce you to an online library of helpful videos that are available to Chamber Members Only!&nbsp\; You will be given a link to gain access to this library for only $1 (others pay $289).<br />\n<br />\nThis workshop is free\, but seating is limited.&nbsp\; Click the &quot\;REGISTER&quot\; button on this page to reserve your seat.<br />\n<br />\nHosted at the Chamber of Commerce building.<br />\n<br />\n<br />\nThis workshop is free\, but seating is limited. Reservations will be taken the two weeks prior to the session.&nbsp\; Please set a &quot\;Reminder&quot\; and check back soon!</span><br />\n<br />\n&nbsp\;
LOCATION:TCLM Chamber 9702 E.F. Lowry Expressway\, Texas City
UID:e.2983.4175
SEQUENCE:3
DTSTAMP:20260421T152439Z
URL:https://business.tclmchamber.com/events/details/level-up-workshop-how-to-get-top-results-in-google-4175
END:VEVENT

END:VCALENDAR
