BEGIN:VCALENDAR
VERSION:2.0
PRODID:-//ChamberMaster//Event Calendar 2.0//EN
METHOD:PUBLISH
X-PUBLISHED-TTL:P3D
REFRESH-INTERVAL:P3D
CALSCALE:GREGORIAN
BEGIN:VEVENT
DTSTART:20211209T170000Z
DTEND:20211209T180000Z
X-MICROSOFT-CDO-ALLDAYEVENT:FALSE
SUMMARY:Level UP Workshop - How to Apply for Goldman Sachs 10K Small Businesses
DESCRIPTION:Level UP your business!\n\n\n\nDo you know about the Goldman Sachs 10\,000 Small Businesses program? It is an absolute game changer. By participating in this program (free) you will be able to ENSURE the future sustainability and success of your business!\n\n\n\nSpeaker: Liz Lara Carreno from HCCS/Goldman Sachs. Along with some Texas City-La Marque business owners who have been through the program and will offer FREE ADVICE!\n\n\n\nThis workshop is free\, but seating is limited. Please use the "REGISTER" button on this page to reserve a seat for yourself.
X-ALT-DESC;FMTTYPE=text/html:<span style="font-size:20px\;"><strong>Level UP your business!</strong></span><br />\n<br />\nDo you know about the Goldman Sachs 10\,000 Small Businesses program? It is an absolute game changer. By participating in this program (free) you will be able to ENSURE the future sustainability and success of your business!<br />\n<br />\nSpeaker: Liz Lara Carreno from HCCS/Goldman Sachs. Along with some Texas City-La Marque business owners who have been through the program and will offer FREE ADVICE!<br />\n<br />\n<strong><span style="font-size:16px\;">This workshop is free\, but seating is limited. Please use the &quot\;REGISTER&quot\; button on this page to reserve a seat for yourself.</span></strong><br />\n<br />\n<br />\n<br />\n<br />\n<br />\n<br />\n<br />\n<br />\n&nbsp\;
LOCATION:Texas City-La Marque Chamber of Commerce 9702 E. F. Lowry Expressway Texas City\, Texas 77591
UID:e.2983.4116
SEQUENCE:3
DTSTAMP:20260421T181943Z
URL:https://business.tclmchamber.com/events/details/level-up-workshop-how-to-apply-for-goldman-sachs-10k-small-businesses-4116
END:VEVENT

END:VCALENDAR
