BEGIN:VCALENDAR
VERSION:2.0
PRODID:-//ChamberMaster//Event Calendar 2.0//EN
METHOD:PUBLISH
X-PUBLISHED-TTL:P3D
REFRESH-INTERVAL:P3D
CALSCALE:GREGORIAN
BEGIN:VEVENT
DTSTART:20210724T160000Z
DTEND:20210724T210000Z
X-MICROSOFT-CDO-ALLDAYEVENT:FALSE
SUMMARY:Let’s Get It Right Fair - Craving for a Change
DESCRIPTION:Community Fair. To provide the community with resources all in one place that can help with college\, getting back into college\, employment\, social services assistance\, preparing for a job (resume\, interview skills)\, and addressing mental health.
X-ALT-DESC;FMTTYPE=text/html:<div style="text-align: center\;">&nbsp\;</div>\n<br />\n<br />\nCommunity Fair. To provide the community with resources all in one place that can help with college\, getting back into college\, employment\, social services assistance\, preparing for a job (resume\, interview skills)\, and addressing mental health.
LOCATION:6415 Park Ave\, Texas City\, TX 77591
UID:e.2983.4104
SEQUENCE:3
DTSTAMP:20260422T020636Z
URL:https://business.tclmchamber.com/events/details/let-s-get-it-right-fair-craving-for-a-change-4104
END:VEVENT

END:VCALENDAR
