BEGIN:VCALENDAR
VERSION:2.0
PRODID:-//ChamberMaster//Event Calendar 2.0//EN
METHOD:PUBLISH
X-PUBLISHED-TTL:P3D
REFRESH-INTERVAL:P3D
CALSCALE:GREGORIAN
BEGIN:VEVENT
DTSTART:20201008T163000Z
DTEND:20201008T180000Z
X-MICROSOFT-CDO-ALLDAYEVENT:FALSE
SUMMARY:Legislative Luncheon
DESCRIPTION:Attend to hear the latest updates from our State Elected Leaders. \n\nMasks required. \n\nFour persons seated per table for social distancing.
X-ALT-DESC;FMTTYPE=text/html:Attend to hear the latest updates from our State Elected Leaders.&nbsp\;<br />\nMasks required.&nbsp\;<br />\nFour persons seated per table for social distancing.<br />\n&nbsp\;
LOCATION:Doyle Convention Center 2010 5th Avenue N. Texas City\, Texas 77590
UID:e.2983.3967
SEQUENCE:3
DTSTAMP:20260422T123005Z
URL:https://business.tclmchamber.com/events/details/legislative-luncheon-3967
END:VEVENT

END:VCALENDAR
