BEGIN:VCALENDAR
VERSION:2.0
PRODID:-//ChamberMaster//Event Calendar 2.0//EN
METHOD:PUBLISH
X-PUBLISHED-TTL:P3D
REFRESH-INTERVAL:P3D
CALSCALE:GREGORIAN
BEGIN:VEVENT
DTSTART:20190206T173000Z
DTEND:20190206T190000Z
X-MICROSOFT-CDO-ALLDAYEVENT:FALSE
SUMMARY:Leadership Orientation
DESCRIPTION:The class is composed of no more that 20 individuals and is chaired by former graduates of Leadership Mainland. Applications are submitted and upon enrollment\, the $950.00 enrollment fee entitles the participants to local and out of town transportation\, meals (15)  lodging for the weekend retreat and the Austin trip and graduation plaque.                 \n\nA  minimum  attendance requirement of 80% is necessary to successfully complete Leadership Mainland.  With the exception of the initial  weekend retreat and the Austin trip\, the class will meet one day per month and get an in-depth background into our community\, county and state.  \n\nA team building weekend is the initial class meeting and is a required activity for each class member.  This casual weekend will include speakers\, team building activities\, leadership training and will enable the class to become  acquainted.  \n\nFor more information to attend the informational meeting call   409-935-1408.
X-ALT-DESC;FMTTYPE=text/html:<span style="language:en-US\;"><span style="font-family:book antiqua\;">The class is composed of no more that 20 </span></span><span style="language:en-US\;"><span style="font-family:book antiqua\;">individuals and is chaired by former graduates of </span></span><span style="language:en-US\;"><span style="font-family:book antiqua\;">L</span></span><span style="language:en-US\;"><span style="font-family:book antiqua\;">eadership Mainland. Applications are submitted and upon enrollment\, the $</span></span><span style="language:en-US\;"><span style="font-family:book antiqua\;">950</span></span><span style="language:en-US\;"><span style="font-family:book antiqua\;">.00 enrollment fee entitles the participants to local and out of town</span></span> <span style="language:en-US\;"><span style="font-family:book antiqua\;">transportation\, meals (15) </span></span>&nbsp\;<span style="language:en-US\;"><span style="font-family:book antiqua\;">lodging for the weekend retreat and the Austin trip and graduation plaque.&nbsp\; </span></span>&nbsp\;&nbsp\;&nbsp\;&nbsp\;&nbsp\;&nbsp\;&nbsp\;&nbsp\;&nbsp\;&nbsp\;&nbsp\;&nbsp\;&nbsp\;&nbsp\;&nbsp\;<br />\n<span style="language:en-US\;"><span style="font-family:book antiqua\;">A </span></span>&nbsp\;<span style="language:en-US\;"><span style="font-family:book antiqua\;">minimum</span></span> <span style="language:en-US\;"><span style="font-family:book antiqua\;">&nbsp\;attendance requirement of 80% is </span></span><span style="language:en-US\;"><span style="font-family:book antiqua\;">necessary</span></span><span style="language:en-US\;"><span style="font-family:book antiqua\;"> to successfully complete Leadership Mainland.&nbsp\; With the exception of the initial </span></span>&nbsp\;<span style="language:en-US\;"><span style="font-family:book antiqua\;">weekend retreat and the Austin trip\, the class will meet one day per month and get an</span></span> <span style="language:en-US\;"><span style="font-family:book antiqua\;">in-depth background into our</span></span> <span style="language:en-US\;"><span style="font-family:book antiqua\;">community\, county and state.&nbsp\; </span></span><br />\n<span style="language:en-US\;"><span style="font-family:book antiqua\;">A team building weekend is the initial class meeting and is a required activity for each class member.&nbsp\; This casual weekend will include speakers\, </span></span><span style="language:en-US\;"><span style="font-family:book antiqua\;">team building</span></span><span style="language:en-US\;"><span style="font-family:book antiqua\;"> activities\, leadership training and will enable the class to become </span></span>&nbsp\;<span style="language:en-US\;"><span style="font-family:book antiqua\;">acquainted.&nbsp\; </span></span><br />\n<span style="font-style:italic\;font-weight:bold\;language:en-US\;"><span style="color:#0070C0\;"><span style="font-family:book antiqua\;"><span style="font-size:10.0pt\;">For more information </span></span></span></span><span style="font-style:italic\;font-weight:bold\;language:en-US\;"><span style="color:#0070C0\;"><span style="font-family:book antiqua\;"><span style="font-size:10.0pt\;">to </span></span></span></span><span style="font-style:italic\;font-weight:bold\;language:en-US\;"><span style="color:#0070C0\;"><span style="font-family:book antiqua\;"><span style="font-size:10.0pt\;">attend the informational meeting call </span></span></span></span><span style="font-style:italic\;font-weight:bold\;language:en-US\;"><span style="color:#0070C0\;"><span style="font-family:book antiqua\;"><span style="font-size:10.0pt\;">&nbsp\;&nbsp\;409-</span></span></span></span><span style="font-style:italic\;font-weight:bold\;language:en-US\;"><span style="color:#0070C0\;"><span style="font-family:book antiqua\;"><span style="font-size:10.0pt\;">935-1408.</span></span></span></span><br />\n&nbsp\;
LOCATION:Chamber office 9702 EF Lowry Expressway Texas City\, Texas 77591
UID:e.2983.3607
SEQUENCE:3
DTSTAMP:20260423T155049Z
URL:https://business.tclmchamber.com/events/details/leadership-orientation-3607
END:VEVENT

END:VCALENDAR
