BEGIN:VCALENDAR
VERSION:2.0
PRODID:-//ChamberMaster//Event Calendar 2.0//EN
METHOD:PUBLISH
X-PUBLISHED-TTL:P3D
REFRESH-INTERVAL:P3D
CALSCALE:GREGORIAN
BEGIN:VEVENT
DTSTART;VALUE=DATE:20200228
DTEND;VALUE=DATE:20200301
TRANSP:TRANSPARENT
X-MICROSOFT-CDO-ALLDAYEVENT:TRUE
SUMMARY:Leadership Mainland Team Building Retreat
DESCRIPTION:Leadership Mainland Team Building Retreat
X-ALT-DESC;FMTTYPE=text/html:Leadership Mainland Team Building Retreat
LOCATION:
UID:e.2983.3968
SEQUENCE:3
DTSTAMP:20260422T233124Z
URL:https://business.tclmchamber.com/events/details/leadership-mainland-team-building-retreat-3968
END:VEVENT

END:VCALENDAR
