BEGIN:VCALENDAR
VERSION:2.0
PRODID:-//ChamberMaster//Event Calendar 2.0//EN
METHOD:PUBLISH
X-PUBLISHED-TTL:P3D
REFRESH-INTERVAL:P3D
CALSCALE:GREGORIAN
BEGIN:VEVENT
DTSTART:20200205T173000Z
DTEND:20200205T180000Z
X-MICROSOFT-CDO-ALLDAYEVENT:FALSE
SUMMARY:Leadership Mainland Informational Orientation
DESCRIPTION:Leadership Mainland Informational Orientation
X-ALT-DESC;FMTTYPE=text/html:Leadership Mainland Informational Orientation
LOCATION:Texas City-La Marque Chamber of Commerce 9702 E.F. Lowry Expressway Texas City\, Texas 77591
UID:e.2983.3969
SEQUENCE:3
DTSTAMP:20260423T010349Z
URL:https://business.tclmchamber.com/events/details/leadership-mainland-informational-orientation-3969
END:VEVENT

END:VCALENDAR
