BEGIN:VCALENDAR
VERSION:2.0
PRODID:-//ChamberMaster//Event Calendar 2.0//EN
METHOD:PUBLISH
X-PUBLISHED-TTL:P3D
REFRESH-INTERVAL:P3D
CALSCALE:GREGORIAN
BEGIN:VEVENT
DTSTART:20190620T163000Z
DTEND:20190620T173000Z
X-MICROSOFT-CDO-ALLDAYEVENT:FALSE
SUMMARY:Ladies Who Lunch
DESCRIPTION:Ladies Who Lunch \n\nJune 20th
X-ALT-DESC;FMTTYPE=text/html:Ladies Who Lunch&nbsp\;<br />\nJune 20th<br />\n&nbsp\;
LOCATION:The Chamber
UID:e.2983.3638
SEQUENCE:3
DTSTAMP:20260423T103938Z
URL:https://business.tclmchamber.com/events/details/ladies-who-lunch-3638
END:VEVENT

END:VCALENDAR
