BEGIN:VCALENDAR
VERSION:2.0
PRODID:-//ChamberMaster//Event Calendar 2.0//EN
METHOD:PUBLISH
X-PUBLISHED-TTL:P3D
REFRESH-INTERVAL:P3D
CALSCALE:GREGORIAN
BEGIN:VEVENT
DTSTART:20190418T163000Z
DTEND:20190418T180000Z
X-MICROSOFT-CDO-ALLDAYEVENT:FALSE
SUMMARY:Ladies Who Lunch
DESCRIPTION:Women's Networking Group \n\nLadies Who Lunch
X-ALT-DESC;FMTTYPE=text/html:Women&#39\;s Networking Group&nbsp\;<br />\nLadies Who Lunch&nbsp\;
LOCATION:The Chamber 9702 E.F. Lowry Expressway Texas City\, TX 77591
UID:e.2983.3632
SEQUENCE:3
DTSTAMP:20260423T125351Z
URL:https://business.tclmchamber.com/events/details/ladies-who-lunch-3632
END:VEVENT

END:VCALENDAR
