BEGIN:VCALENDAR
VERSION:2.0
PRODID:-//ChamberMaster//Event Calendar 2.0//EN
METHOD:PUBLISH
X-PUBLISHED-TTL:P3D
REFRESH-INTERVAL:P3D
CALSCALE:GREGORIAN
BEGIN:VEVENT
DTSTART:20190314T163000Z
DTEND:20190314T180000Z
X-MICROSOFT-CDO-ALLDAYEVENT:FALSE
SUMMARY:Ladies Who Lunch
DESCRIPTION:
X-ALT-DESC;FMTTYPE=text/html:
LOCATION:United Way Galveston County Mainland UWGCM Training Room 2800 Texas Avenue\, Texas City
UID:e.2983.3621
SEQUENCE:3
DTSTAMP:20260423T142236Z
URL:https://business.tclmchamber.com/events/details/ladies-who-lunch-3621
END:VEVENT

END:VCALENDAR
