BEGIN:VCALENDAR
VERSION:2.0
PRODID:-//ChamberMaster//Event Calendar 2.0//EN
METHOD:PUBLISH
X-PUBLISHED-TTL:P3D
REFRESH-INTERVAL:P3D
CALSCALE:GREGORIAN
BEGIN:VEVENT
DTSTART:20181116T173000Z
DTEND:20181116T190000Z
X-MICROSOFT-CDO-ALLDAYEVENT:FALSE
SUMMARY:Ladies Who Lunch
DESCRIPTION:Monthly Women's Networking Lunch. Please RSVP to  Kaela@texascitychamber.com or 409-935-1408
X-ALT-DESC;FMTTYPE=text/html:Monthly Women&#39\;s Networking Lunch. Please RSVP to&nbsp\;&nbsp\;Kaela@texascitychamber.com or 409-935-1408&nbsp\;
LOCATION:Location: Chamber Office
UID:e.2983.3384
SEQUENCE:3
DTSTAMP:20260423T203857Z
URL:https://business.tclmchamber.com/events/details/ladies-who-lunch-3384
END:VEVENT

END:VCALENDAR
