BEGIN:VCALENDAR
VERSION:2.0
PRODID:-//ChamberMaster//Event Calendar 2.0//EN
METHOD:PUBLISH
X-PUBLISHED-TTL:P3D
REFRESH-INTERVAL:P3D
CALSCALE:GREGORIAN
BEGIN:VEVENT
DTSTART:20180816T163000Z
DTEND:20180816T180000Z
X-MICROSOFT-CDO-ALLDAYEVENT:FALSE
SUMMARY:Ladies Who Lunch
DESCRIPTION:Monthly Women's Networking Lunch. Please RSVP to Kaela@texascitychamber.com or 409-935-1408
X-ALT-DESC;FMTTYPE=text/html:&#8203\;Monthly Women&#39\;s Networking Lunch. Please RSVP to Kaela@texascitychamber.com or 409-935-1408&nbsp\;
LOCATION:Chamber Office 9702 E. F. Lowry Expressway 77591
UID:e.2983.3381
SEQUENCE:3
DTSTAMP:20260424T015858Z
URL:https://business.tclmchamber.com/events/details/ladies-who-lunch-3381
END:VEVENT

END:VCALENDAR
