BEGIN:VCALENDAR
VERSION:2.0
PRODID:-//ChamberMaster//Event Calendar 2.0//EN
METHOD:PUBLISH
X-PUBLISHED-TTL:P3D
REFRESH-INTERVAL:P3D
CALSCALE:GREGORIAN
BEGIN:VEVENT
DTSTART:20181206T000000Z
DTEND:20181206T010000Z
X-MICROSOFT-CDO-ALLDAYEVENT:FALSE
SUMMARY:La Marque Christmas Parade
DESCRIPTION:Watch the beautiful lighting of the giant Christmas Tree\, visit with Santa Claus\, and sing Christmas carols! The children can visit with Santa after the parade in the gazebo at Walter Fiegel Park and there is always plenty of popcorn and hot chocolate courtesy of La Marque Lions Club\, and Snow King.
X-ALT-DESC;FMTTYPE=text/html:<span style="color: rgb(65\, 65\, 65)\; font-family: &quot\;Segoe UI&quot\;\, Arial\, Helvetica\, sans-serif\; font-size: 16px\; background-color: rgb(255\, 255\, 255)\;">Watch the beautiful lighting of the giant Christmas Tree\, visit with Santa Claus\, and sing Christmas carols! The children can visit with Santa after the parade in the gazebo at Walter Fiegel Park and there is always plenty of popcorn and hot chocolate courtesy of La Marque Lions Club\, and Snow King.</span>
LOCATION:Walter Feigle Park 1011 Bayou Road La Marque\, Texas
UID:e.2983.3368
SEQUENCE:3
DTSTAMP:20260423T190907Z
URL:https://business.tclmchamber.com/events/details/la-marque-christmas-parade-3368
END:VEVENT

END:VCALENDAR
